BEGIN:VCALENDAR
VERSION:2.0
PRODID:-//Klondike Cruisers - ECPv6.15.20//NONSGML v1.0//EN
CALSCALE:GREGORIAN
METHOD:PUBLISH
X-WR-CALNAME:Klondike Cruisers
X-ORIGINAL-URL:https://klondikecruisers.ca
X-WR-CALDESC:Events for Klondike Cruisers
REFRESH-INTERVAL;VALUE=DURATION:PT1H
X-Robots-Tag:noindex
X-PUBLISHED-TTL:PT1H
BEGIN:VTIMEZONE
TZID:America/Whitehorse
BEGIN:STANDARD
TZOFFSETFROM:-0700
TZOFFSETTO:-0700
TZNAME:MST
DTSTART:20240101T000000
END:STANDARD
END:VTIMEZONE
BEGIN:VEVENT
DTSTART;TZID=America/Whitehorse:20260414T180000
DTEND;TZID=America/Whitehorse:20260414T200000
DTSTAMP:20260425T151856
CREATED:20260401T193044Z
LAST-MODIFIED:20260401T193044Z
UID:10000448-1776189600-1776196800@klondikecruisers.ca
SUMMARY:Annual General Meeting
DESCRIPTION:Our Annual General Meeting (AGM) will be: \n\nat the Yukon Transportation Museum\nApril 14\, 6:00pm to 8:00pm\nmeeting starts at 7:00pm\n\n 
URL:https://klondikecruisers.ca/event/annual-general-meeting-2/
LOCATION:Yukon Transportation Museum\, 30 Electra Crescent\, Whitehorse\, YT\, Y1A5W4\, Canada
ORGANIZER;CN="Klondike Cruisers":MAILTO:klondikecruisers@gmail.com
END:VEVENT
BEGIN:VEVENT
DTSTART;TZID=America/Whitehorse:20260404T100000
DTEND;TZID=America/Whitehorse:20260404T230000
DTSTAMP:20260425T151856
CREATED:20260401T193212Z
LAST-MODIFIED:20260401T193322Z
UID:10000449-1775296800-1775343600@klondikecruisers.ca
SUMMARY:Membership drive
DESCRIPTION:Come and get your 2026 Memberships. \nStill only $50 a year and still with great discounts all over town. Meet at 10am at A & W. \n 
URL:https://klondikecruisers.ca/event/membership-drive/
LOCATION:A&W\, 2222 2nd Ave\, Whitehorse\, YT\, Y1A 1C8\, Canada
ATTACH;FMTTYPE=image/png:https://klondikecruisers.ca/wp-content/uploads/2022/04/KC-STK-Metallic.png
ORGANIZER;CN="Klondike Cruisers":MAILTO:klondikecruisers@gmail.com
END:VEVENT
BEGIN:VEVENT
DTSTART;TZID=America/Whitehorse:20250924T180000
DTEND;TZID=America/Whitehorse:20250924T190000
DTSTAMP:20260425T151856
CREATED:20250922T225603Z
LAST-MODIFIED:20250922T225603Z
UID:10000447-1758736800-1758740400@klondikecruisers.ca
SUMMARY:Year end pitstop at Kopper King
DESCRIPTION:This is our last event for 2025. Meet for a casual dinner at Kopper King
URL:https://klondikecruisers.ca/event/year-end-pitstop-at-kopper-king/
LOCATION:Kopper King Neighbours pub\, 91888 Alaska Hwy YT Y1A 5G5\, Whitehorse\, YT\, y1a 5g5\, Canada
ATTACH;FMTTYPE=image/jpeg:https://klondikecruisers.ca/wp-content/uploads/2025/08/KK.jpg
ORGANIZER;CN="Klondike Cruisers":MAILTO:klondikecruisers@gmail.com
END:VEVENT
BEGIN:VEVENT
DTSTART;TZID=America/Whitehorse:20250906T100000
DTEND;TZID=America/Whitehorse:20250906T120000
DTSTAMP:20260425T151856
CREATED:20250805T025155Z
LAST-MODIFIED:20250902T022008Z
UID:10000444-1757152800-1757160000@klondikecruisers.ca
SUMMARY:Cars and coffee
DESCRIPTION:NOTE: this was moved to Sept 6 in consideration of the Haines Junction Show and Shine on Sept 13. \nIts the last cars and coffee for the season. Its also a swap meet so bring your parts down to the Territorial Auto parking lot. Talks cars\, drink coffee\, swap parts what else do you need?
URL:https://klondikecruisers.ca/event/cars-and-coffee-19/
LOCATION:Territorial Auto Parts\, 9004 Quartz Road\, Whitehorse\, YT\, Y1A 2Z5\, Canada
ATTACH;FMTTYPE=image/png:https://klondikecruisers.ca/wp-content/uploads/2018/04/Cars-and-Coffee.png
ORGANIZER;CN="Klondike Cruisers":MAILTO:klondikecruisers@gmail.com
END:VEVENT
BEGIN:VEVENT
DTSTART;TZID=America/Whitehorse:20250903T180000
DTEND;TZID=America/Whitehorse:20250903T190000
DTSTAMP:20260425T151856
CREATED:20250902T022713Z
LAST-MODIFIED:20250902T022727Z
UID:10000446-1756922400-1756926000@klondikecruisers.ca
SUMMARY:Weekly cruise to Dairy Queen
DESCRIPTION:The weather appears to be holding\, so this week we are back at Dairy Queen
URL:https://klondikecruisers.ca/event/weekly-cruise-to-dairy-queen-4/
LOCATION:Dairy Queen Grill & Chill\, 107 Range Rd\, Whitehorse\, yukon\, y1a3e5\, Canada
ATTACH;FMTTYPE=image/png:https://klondikecruisers.ca/wp-content/uploads/2022/04/DairyQueen.png
ORGANIZER;CN="Klondike Cruisers":MAILTO:klondikecruisers@gmail.com
END:VEVENT
BEGIN:VEVENT
DTSTART;TZID=America/Whitehorse:20250831T100000
DTEND;TZID=America/Whitehorse:20250831T150000
DTSTAMP:20260425T151856
CREATED:20250507T050528Z
LAST-MODIFIED:20250523T143806Z
UID:10000373-1756634400-1756652400@klondikecruisers.ca
SUMMARY:Autocross last Sunday of every month
DESCRIPTION:Can you navigate cones at relatively slow speeds? do you like to sweep parking lots ? do you like bbq meats? then Autocross may be for you. \nOn the last Sunday of every month from May to August the club will be at the Yukon Liquor warehouse parking lot testing our skills in the autocross. \n\nYou must be a member to be on the property\nYou must help with setup to participate\nYou must wear a helmet\nYou must sign a waver\nYour car must pass a technical inspection\n\na common failure is a battery that is not mechanically secured\, i.e no bungee cords\ntake out all loose items\, including the spare tire and glovebox contents\n\n\nYou must obey the track marshals and flag people\n\nThere will food and drinks on site and a porta potty \nIts a great time to see if you know how to handle your car in tight quarters
URL:https://klondikecruisers.ca/event/autocross-last-sunday-of-every-month-2/2025-08-31/
LOCATION:Yukon Liquor Corp\, 9031 Quartz Rd\, Whitehorse\, YT\, y1a4p9\, Canada
ATTACH;FMTTYPE=image/jpeg:https://klondikecruisers.ca/wp-content/uploads/2019/03/TG-S10.jpg
ORGANIZER;CN="Klondike Cruisers":MAILTO:klondikecruisers@gmail.com
END:VEVENT
BEGIN:VEVENT
DTSTART;TZID=America/Whitehorse:20250827T180000
DTEND;TZID=America/Whitehorse:20250827T190000
DTSTAMP:20260425T151856
CREATED:20250606T041720Z
LAST-MODIFIED:20250606T041803Z
UID:10000385-1756317600-1756321200@klondikecruisers.ca
SUMMARY:Cruising the Dub for the rest of August
DESCRIPTION:We are back at A & W to cruise the dub for the rest of August. Meet us every Wednesday at around 6 pm to talk cars
URL:https://klondikecruisers.ca/event/cruising-the-dub-for-the-rest-of-august/2025-08-27/
LOCATION:A&W\, 2222 2nd Ave\, Whitehorse\, YT\, Y1A 1C8\, Canada
ATTACH;FMTTYPE=image/jpeg:https://klondikecruisers.ca/wp-content/uploads/2019/03/Cruisin-Dub1204.jpg
ORGANIZER;CN="Klondike Cruisers":MAILTO:klondikecruisers@gmail.com
END:VEVENT
BEGIN:VEVENT
DTSTART;TZID=America/Whitehorse:20250823T120000
DTEND;TZID=America/Whitehorse:20250823T150000
DTSTAMP:20260425T151856
CREATED:20250805T024911Z
LAST-MODIFIED:20250820T032330Z
UID:10000443-1755950400-1755961200@klondikecruisers.ca
SUMMARY:Cruise to Carcross for COPA fly in
DESCRIPTION:Its time to meet up with COPA for their annual fly in to Carcross. This is also going to be a a poker run . \nWe are going to meet at the Yukon Transportation at 9 am with a plan to leave at 10 \n\n$10/hand\, best poker hand at the end gets 50% of the proceeds.\nWe draw a card from a shuffled deck at each stop.\nThere is an opportunity to buy extra cards at the last stop for $5 each.\n\nThe Poker run will finish at the Carcross Airstrip which is on the left as you come towards Carcross\nIf you can’t make the run\, or want to run on your own\, the plan is to meet at Carcross airstrip around noon. Food truck on site. \nCOPA website \nCOPA on Facebook
URL:https://klondikecruisers.ca/event/cruise-to-carcross-for-copa-fly-in/
LOCATION:YT
ATTACH;FMTTYPE=image/jpeg:https://klondikecruisers.ca/wp-content/uploads/2025/08/2022-fly-in.jpg
ORGANIZER;CN="Klondike Cruisers":MAILTO:klondikecruisers@gmail.com
END:VEVENT
BEGIN:VEVENT
DTSTART;TZID=America/Whitehorse:20250821T180000
DTEND;TZID=America/Whitehorse:20250821T190000
DTSTAMP:20260425T151857
CREATED:20250805T030104Z
LAST-MODIFIED:20250805T030203Z
UID:10000445-1755799200-1755802800@klondikecruisers.ca
SUMMARY:Burgers to beat MS day
DESCRIPTION:A & W has been synonymous with car cruises in Canada for decades now\, and have always been welcoming to the club. Lets show our support with their annual Burgers to Beat MS day. \nLink to their site \nCanada has the highest rate of MS in the world\, with 1 in 400 Canadians living with the disease. Since 2008\, A & W have partnered with MS Canada to raise funds and awareness for MS with Burgers to Beat MS Day. \nCelebrate with us this year on August 21st. $2 from every Teen Burger™ sold will go to support Canadians living with MS. Plus\, from now until then\, you can donate by rounding up your bill at the till.
URL:https://klondikecruisers.ca/event/burgers-to-beat-ms-day/
LOCATION:A&W\, 2222 2nd Ave\, Whitehorse\, YT\, Y1A 1C8\, Canada
ATTACH;FMTTYPE=image/jpeg:https://klondikecruisers.ca/wp-content/uploads/2023/08/unnamed.jpg
END:VEVENT
BEGIN:VEVENT
DTSTART;TZID=America/Whitehorse:20250820T180000
DTEND;TZID=America/Whitehorse:20250820T190000
DTSTAMP:20260425T151857
CREATED:20250606T041720Z
LAST-MODIFIED:20250606T041803Z
UID:10000384-1755712800-1755716400@klondikecruisers.ca
SUMMARY:Cruising the Dub for the rest of August
DESCRIPTION:We are back at A & W to cruise the dub for the rest of August. Meet us every Wednesday at around 6 pm to talk cars
URL:https://klondikecruisers.ca/event/cruising-the-dub-for-the-rest-of-august/2025-08-20/
LOCATION:A&W\, 2222 2nd Ave\, Whitehorse\, YT\, Y1A 1C8\, Canada
ATTACH;FMTTYPE=image/jpeg:https://klondikecruisers.ca/wp-content/uploads/2019/03/Cruisin-Dub1204.jpg
ORGANIZER;CN="Klondike Cruisers":MAILTO:klondikecruisers@gmail.com
END:VEVENT
BEGIN:VEVENT
DTSTART;TZID=America/Whitehorse:20250813T180000
DTEND;TZID=America/Whitehorse:20250813T190000
DTSTAMP:20260425T151857
CREATED:20250606T040749Z
LAST-MODIFIED:20250805T024333Z
UID:10000380-1755108000-1755111600@klondikecruisers.ca
SUMMARY:Take over Main street
DESCRIPTION:Once again we are parking up on Main Street between 3rd and 4th avenue. Support a local business and get some take out then join us. \nTake out food and take over Main Street. \nPlease note that although this is a club event\, we do not have any reserved parking and the street is open to local traffic. \nRespect all motor vehicle laws coming and leaving the event which includes no burnouts! Lets make it a fun and safe time. \n 
URL:https://klondikecruisers.ca/event/take-over-main-street/
LOCATION:YT
ATTACH;FMTTYPE=image/jpeg:https://klondikecruisers.ca/wp-content/uploads/2025/08/Main-St.jpg
ORGANIZER;CN="Klondike Cruisers":MAILTO:klondikecruisers@gmail.com
END:VEVENT
BEGIN:VEVENT
DTSTART;TZID=America/Whitehorse:20250809T100000
DTEND;TZID=America/Whitehorse:20250809T110000
DTSTAMP:20260425T151857
CREATED:20250507T044237Z
LAST-MODIFIED:20250528T172738Z
UID:10000338-1754733600-1754737200@klondikecruisers.ca
SUMMARY:Cars and Coffee 2nd Saturday of every month
DESCRIPTION:Its time for Cars and Coffee at the Territorial Auto parking lot. Every cars and coffee this year is also a swap meet so bring down some parts because you never know who may need em.
URL:https://klondikecruisers.ca/event/cars-and-coffee-every-2nd-saturday/2025-08-09/
LOCATION:Territorial Auto Parts\, 9004 Quartz Road\, Whitehorse\, YT\, Y1A 2Z5\, Canada
ATTACH;FMTTYPE=image/png:https://klondikecruisers.ca/wp-content/uploads/2018/04/Cars-and-Coffee.png
ORGANIZER;CN="Klondike Cruisers":MAILTO:klondikecruisers@gmail.com
END:VEVENT
BEGIN:VEVENT
DTSTART;TZID=America/Whitehorse:20250806T180000
DTEND;TZID=America/Whitehorse:20250806T190000
DTSTAMP:20260425T151857
CREATED:20250606T041527Z
LAST-MODIFIED:20250606T041527Z
UID:10000382-1754503200-1754506800@klondikecruisers.ca
SUMMARY:Cruising the Dub again
DESCRIPTION:We are back at A & W to cruise the dub for most of August. Meet us every Wednesday at around 6 pm to talk cars
URL:https://klondikecruisers.ca/event/cruising-the-dub-again/
LOCATION:A&W\, 2222 2nd Ave\, Whitehorse\, YT\, Y1A 1C8\, Canada
ATTACH;FMTTYPE=image/jpeg:https://klondikecruisers.ca/wp-content/uploads/2019/03/Cruisin-Dub1204.jpg
ORGANIZER;CN="Klondike Cruisers":MAILTO:klondikecruisers@gmail.com
END:VEVENT
BEGIN:VEVENT
DTSTART;TZID=America/Whitehorse:20250730T180000
DTEND;TZID=America/Whitehorse:20250730T190000
DTSTAMP:20260425T151857
CREATED:20250607T223320Z
LAST-MODIFIED:20250607T223320Z
UID:10000440-1753898400-1753902000@klondikecruisers.ca
SUMMARY:Cruise to Dairy Queen for the rest of July
DESCRIPTION:We are back at the DQ for burgers\, ice cold treats and car talk. Join us one and all
URL:https://klondikecruisers.ca/event/cruise-to-dairy-queen-for-the-rest-of-july/2025-07-30/
LOCATION:Dairy Queen Grill & Chill\, 107 Range Rd\, Whitehorse\, yukon\, y1a3e5\, Canada
ATTACH;FMTTYPE=image/png:https://klondikecruisers.ca/wp-content/uploads/2022/04/DairyQueen.png
ORGANIZER;CN="Klondike Cruisers":MAILTO:klondikecruisers@gmail.com
END:VEVENT
BEGIN:VEVENT
DTSTART;TZID=America/Whitehorse:20250730T170000
DTEND;TZID=America/Whitehorse:20250730T180000
DTSTAMP:20260425T151857
CREATED:20250610T180834Z
LAST-MODIFIED:20250709T230429Z
UID:10000442-1753894800-1753898400@klondikecruisers.ca
SUMMARY:Thomson Centre care facility visit
DESCRIPTION:Once again this year\, we have been able to arrange a visit to the Thomson Centre care facility. Its a great opportunity to contribute to the community\, as the residents greatly appreciate seeing all the old (and new) cars roll up outside. There are many great conversations and many great memories brought up on these visits. \nNOTE: We are not meeting in the same place as previous years. As requested by the facility\, we are not advertising the location on social media or the website. It will be sent by email to our members. \n  \nWe will proceed to our usual Wednesday hangout at Dairy Queen after the visit.
URL:https://klondikecruisers.ca/event/thomson-centre-care-facility-visit/
LOCATION:YT
ORGANIZER;CN="Klondike Cruisers":MAILTO:klondikecruisers@gmail.com
END:VEVENT
BEGIN:VEVENT
DTSTART;TZID=America/Whitehorse:20250727T100000
DTEND;TZID=America/Whitehorse:20250727T150000
DTSTAMP:20260425T151857
CREATED:20250507T050528Z
LAST-MODIFIED:20250523T143806Z
UID:10000372-1753610400-1753628400@klondikecruisers.ca
SUMMARY:Autocross last Sunday of every month
DESCRIPTION:Can you navigate cones at relatively slow speeds? do you like to sweep parking lots ? do you like bbq meats? then Autocross may be for you. \nOn the last Sunday of every month from May to August the club will be at the Yukon Liquor warehouse parking lot testing our skills in the autocross. \n\nYou must be a member to be on the property\nYou must help with setup to participate\nYou must wear a helmet\nYou must sign a waver\nYour car must pass a technical inspection\n\na common failure is a battery that is not mechanically secured\, i.e no bungee cords\ntake out all loose items\, including the spare tire and glovebox contents\n\n\nYou must obey the track marshals and flag people\n\nThere will food and drinks on site and a porta potty \nIts a great time to see if you know how to handle your car in tight quarters
URL:https://klondikecruisers.ca/event/autocross-last-sunday-of-every-month-2/2025-07-27/
LOCATION:Yukon Liquor Corp\, 9031 Quartz Rd\, Whitehorse\, YT\, y1a4p9\, Canada
ATTACH;FMTTYPE=image/jpeg:https://klondikecruisers.ca/wp-content/uploads/2019/03/TG-S10.jpg
ORGANIZER;CN="Klondike Cruisers":MAILTO:klondikecruisers@gmail.com
END:VEVENT
BEGIN:VEVENT
DTSTART;TZID=America/Whitehorse:20250723T180000
DTEND;TZID=America/Whitehorse:20250723T190000
DTSTAMP:20260425T151857
CREATED:20250607T223320Z
LAST-MODIFIED:20250607T223320Z
UID:10000439-1753293600-1753297200@klondikecruisers.ca
SUMMARY:Cruise to Dairy Queen for the rest of July
DESCRIPTION:We are back at the DQ for burgers\, ice cold treats and car talk. Join us one and all
URL:https://klondikecruisers.ca/event/cruise-to-dairy-queen-for-the-rest-of-july/2025-07-23/
LOCATION:Dairy Queen Grill & Chill\, 107 Range Rd\, Whitehorse\, yukon\, y1a3e5\, Canada
ATTACH;FMTTYPE=image/png:https://klondikecruisers.ca/wp-content/uploads/2022/04/DairyQueen.png
ORGANIZER;CN="Klondike Cruisers":MAILTO:klondikecruisers@gmail.com
END:VEVENT
BEGIN:VEVENT
DTSTART;TZID=America/Whitehorse:20250723T170000
DTEND;TZID=America/Whitehorse:20250723T180000
DTSTAMP:20260425T151857
CREATED:20250610T180527Z
LAST-MODIFIED:20250610T180527Z
UID:10000441-1753290000-1753293600@klondikecruisers.ca
SUMMARY:Whistleband Place care home visit
DESCRIPTION:Once again this year\, we have been able to arrange a visit to Whistlebend place. Its a great opportunity to contribute to the community\, as the residents greatly appreciate seeing all the old (and new) cars roll up outside. There are many great conversations and many great memories brought up on these visits. \nWe will proceed to our usual Wednesday hangout at Dairy Queen after the visit. \n  \n 
URL:https://klondikecruisers.ca/event/whistleband-place-care-home-visit/
LOCATION:Whistle Bend Care facility\, 90 olive way\, whitehorse\, yt\, y1a0m5\, Canada
ORGANIZER;CN="Klondike Cruisers":MAILTO:klondikecruisers@gmail.com
END:VEVENT
BEGIN:VEVENT
DTSTART;TZID=America/Whitehorse:20250716T180000
DTEND;TZID=America/Whitehorse:20250716T190000
DTSTAMP:20260425T151857
CREATED:20250607T223033Z
LAST-MODIFIED:20250611T002654Z
UID:10000438-1752688800-1752692400@klondikecruisers.ca
SUMMARY:Drive to MacBride
DESCRIPTION:Its time again for the annual Drive to MacBride event. Come and join us as the MacBride museum as we show off our cars to the passers by.
URL:https://klondikecruisers.ca/event/drive-to-mcbride-2/
LOCATION:McBride Museum\, 1124 Front St.\, whitehorse\, yukon\, Y1A 1A4
ORGANIZER;CN="Klondike Cruisers":MAILTO:klondikecruisers@gmail.com
END:VEVENT
BEGIN:VEVENT
DTSTART;TZID=America/Whitehorse:20250712T100000
DTEND;TZID=America/Whitehorse:20250712T110000
DTSTAMP:20260425T151857
CREATED:20250507T044237Z
LAST-MODIFIED:20250528T172738Z
UID:10000337-1752314400-1752318000@klondikecruisers.ca
SUMMARY:Cars and Coffee 2nd Saturday of every month
DESCRIPTION:Its time for Cars and Coffee at the Territorial Auto parking lot. Every cars and coffee this year is also a swap meet so bring down some parts because you never know who may need em.
URL:https://klondikecruisers.ca/event/cars-and-coffee-every-2nd-saturday/2025-07-12/
LOCATION:Territorial Auto Parts\, 9004 Quartz Road\, Whitehorse\, YT\, Y1A 2Z5\, Canada
ATTACH;FMTTYPE=image/png:https://klondikecruisers.ca/wp-content/uploads/2018/04/Cars-and-Coffee.png
ORGANIZER;CN="Klondike Cruisers":MAILTO:klondikecruisers@gmail.com
END:VEVENT
BEGIN:VEVENT
DTSTART;TZID=America/Whitehorse:20250709T180000
DTEND;TZID=America/Whitehorse:20250709T190000
DTSTAMP:20260425T151857
CREATED:20250507T045501Z
LAST-MODIFIED:20250607T223120Z
UID:10000358-1752084000-1752087600@klondikecruisers.ca
SUMMARY:Cruise to Dairy Queen for the month of July
DESCRIPTION:Back at the DQ every Wednesday in July. It should be hot by now so pick up a cool tasty treat. There will also be cars to look at.
URL:https://klondikecruisers.ca/event/cruise-to-dairy-queen-for-the-month-of-july/2025-07-09/
LOCATION:Dairy Queen Grill & Chill\, 107 Range Rd\, Whitehorse\, yukon\, y1a3e5\, Canada
ATTACH;FMTTYPE=image/png:https://klondikecruisers.ca/wp-content/uploads/2022/04/DairyQueen.png
ORGANIZER;CN="Klondike Cruisers":MAILTO:klondikecruisers@gmail.com
END:VEVENT
BEGIN:VEVENT
DTSTART;TZID=America/Whitehorse:20250702T180000
DTEND;TZID=America/Whitehorse:20250702T190000
DTSTAMP:20260425T151857
CREATED:20250507T045501Z
LAST-MODIFIED:20250607T223120Z
UID:10000357-1751479200-1751482800@klondikecruisers.ca
SUMMARY:Cruise to Dairy Queen for the month of July
DESCRIPTION:Back at the DQ every Wednesday in July. It should be hot by now so pick up a cool tasty treat. There will also be cars to look at.
URL:https://klondikecruisers.ca/event/cruise-to-dairy-queen-for-the-month-of-july/2025-07-02/
LOCATION:Dairy Queen Grill & Chill\, 107 Range Rd\, Whitehorse\, yukon\, y1a3e5\, Canada
ATTACH;FMTTYPE=image/png:https://klondikecruisers.ca/wp-content/uploads/2022/04/DairyQueen.png
ORGANIZER;CN="Klondike Cruisers":MAILTO:klondikecruisers@gmail.com
END:VEVENT
BEGIN:VEVENT
DTSTART;TZID=America/Whitehorse:20250629T100000
DTEND;TZID=America/Whitehorse:20250629T150000
DTSTAMP:20260425T151857
CREATED:20250507T050528Z
LAST-MODIFIED:20250523T143806Z
UID:10000371-1751191200-1751209200@klondikecruisers.ca
SUMMARY:Autocross last Sunday of every month
DESCRIPTION:Can you navigate cones at relatively slow speeds? do you like to sweep parking lots ? do you like bbq meats? then Autocross may be for you. \nOn the last Sunday of every month from May to August the club will be at the Yukon Liquor warehouse parking lot testing our skills in the autocross. \n\nYou must be a member to be on the property\nYou must help with setup to participate\nYou must wear a helmet\nYou must sign a waver\nYour car must pass a technical inspection\n\na common failure is a battery that is not mechanically secured\, i.e no bungee cords\ntake out all loose items\, including the spare tire and glovebox contents\n\n\nYou must obey the track marshals and flag people\n\nThere will food and drinks on site and a porta potty \nIts a great time to see if you know how to handle your car in tight quarters
URL:https://klondikecruisers.ca/event/autocross-last-sunday-of-every-month-2/2025-06-29/
LOCATION:Yukon Liquor Corp\, 9031 Quartz Rd\, Whitehorse\, YT\, y1a4p9\, Canada
ATTACH;FMTTYPE=image/jpeg:https://klondikecruisers.ca/wp-content/uploads/2019/03/TG-S10.jpg
ORGANIZER;CN="Klondike Cruisers":MAILTO:klondikecruisers@gmail.com
END:VEVENT
BEGIN:VEVENT
DTSTART;TZID=America/Whitehorse:20250625T180000
DTEND;TZID=America/Whitehorse:20250625T190000
DTSTAMP:20260425T151857
CREATED:20250507T045120Z
LAST-MODIFIED:20250507T045532Z
UID:10000365-1750874400-1750878000@klondikecruisers.ca
SUMMARY:A & W cruise in for the Month of June
DESCRIPTION:We are back at A & W to cruise the dub for the month on June. Meet us every Wednesday at around 6 pm to talk cars. You should have a membership by now but if you don’t\, make sure to get one from one of our directors who are always around.
URL:https://klondikecruisers.ca/event/a-w-cruise-in-for-the-month-of-june/2025-06-25/
LOCATION:A&W\, 2222 2nd Ave\, Whitehorse\, YT\, Y1A 1C8\, Canada
ATTACH;FMTTYPE=image/jpeg:https://klondikecruisers.ca/wp-content/uploads/2019/03/Cruisin-Dub1204.jpg
ORGANIZER;CN="Klondike Cruisers":MAILTO:klondikecruisers@gmail.com
END:VEVENT
BEGIN:VEVENT
DTSTART;TZID=America/Whitehorse:20250625T170000
DTEND;TZID=America/Whitehorse:20250625T180000
DTSTAMP:20260425T151857
CREATED:20250528T173508Z
LAST-MODIFIED:20250528T173508Z
UID:10000379-1750870800-1750874400@klondikecruisers.ca
SUMMARY:Copper Ridge Place care home cruise
DESCRIPTION:We are once again making the time to visit the care facilities in Whitehorse. \nThis week we are visiting Copper Ridge Place. Its a great opportunity to share our passion for vehicles. Many of the residents don’t get a lot of visitors and are limited in their outings due to mobility issues\, so they are incredibly appreciative of our visits. \nWe are meeting there from 5 to 6 and continuing on to our regular Wednesday night cruise at A & W after that. \n 
URL:https://klondikecruisers.ca/event/copper-ridge-place-care-home-cruise/
LOCATION:Copper Ridge Place\, 60 Lazulite DrY1A 6S9\, Whitehrose\, yt\, y1a6s9\, Canada
ORGANIZER;CN="Klondike Cruisers":MAILTO:klondikecruisers@gmail.com
END:VEVENT
BEGIN:VEVENT
DTSTART;TZID=America/Whitehorse:20250618T180000
DTEND;TZID=America/Whitehorse:20250618T190000
DTSTAMP:20260425T151857
CREATED:20250507T045120Z
LAST-MODIFIED:20250507T045532Z
UID:10000364-1750269600-1750273200@klondikecruisers.ca
SUMMARY:A & W cruise in for the Month of June
DESCRIPTION:We are back at A & W to cruise the dub for the month on June. Meet us every Wednesday at around 6 pm to talk cars. You should have a membership by now but if you don’t\, make sure to get one from one of our directors who are always around.
URL:https://klondikecruisers.ca/event/a-w-cruise-in-for-the-month-of-june/2025-06-18/
LOCATION:A&W\, 2222 2nd Ave\, Whitehorse\, YT\, Y1A 1C8\, Canada
ATTACH;FMTTYPE=image/jpeg:https://klondikecruisers.ca/wp-content/uploads/2019/03/Cruisin-Dub1204.jpg
ORGANIZER;CN="Klondike Cruisers":MAILTO:klondikecruisers@gmail.com
END:VEVENT
BEGIN:VEVENT
DTSTART;TZID=America/Whitehorse:20250615T100000
DTEND;TZID=America/Whitehorse:20250615T150000
DTSTAMP:20260425T151857
CREATED:20250507T051208Z
LAST-MODIFIED:20250612T040957Z
UID:10000374-1749981600-1749999600@klondikecruisers.ca
SUMMARY:Father's Day show and shine
DESCRIPTION:Its time for our annual car show up at the Yukon Transportation Museum \nAll makes and models are welcome\, including motorcycles. If it has wheels\, you’re in \n\nIts free for members to enter a vehicle or $20 for non members. Hint hint\, pick up a $50 membership at the show!\nThere will be a food truck and music on site\nThere will be door prizes\nThere will be judged categories with prizes that you can choose to enter
URL:https://klondikecruisers.ca/event/fathers-day-show-and-shine-3/
LOCATION:Yukon Transportation Museum\, 30 Electra Crescent\, Whitehorse\, YT\, Y1A5W4\, Canada
ATTACH;FMTTYPE=image/jpeg:https://klondikecruisers.ca/wp-content/uploads/2018/03/Show-and-Shine.jpg
ORGANIZER;CN="Klondike Cruisers":MAILTO:klondikecruisers@gmail.com
END:VEVENT
BEGIN:VEVENT
DTSTART;TZID=America/Whitehorse:20250614T100000
DTEND;TZID=America/Whitehorse:20250614T110000
DTSTAMP:20260425T151857
CREATED:20250507T044237Z
LAST-MODIFIED:20250528T172738Z
UID:10000336-1749895200-1749898800@klondikecruisers.ca
SUMMARY:Cars and Coffee 2nd Saturday of every month
DESCRIPTION:Its time for Cars and Coffee at the Territorial Auto parking lot. Every cars and coffee this year is also a swap meet so bring down some parts because you never know who may need em.
URL:https://klondikecruisers.ca/event/cars-and-coffee-every-2nd-saturday/2025-06-14/
LOCATION:Territorial Auto Parts\, 9004 Quartz Road\, Whitehorse\, YT\, Y1A 2Z5\, Canada
ATTACH;FMTTYPE=image/png:https://klondikecruisers.ca/wp-content/uploads/2018/04/Cars-and-Coffee.png
ORGANIZER;CN="Klondike Cruisers":MAILTO:klondikecruisers@gmail.com
END:VEVENT
BEGIN:VEVENT
DTSTART;TZID=America/Whitehorse:20250611T180000
DTEND;TZID=America/Whitehorse:20250611T190000
DTSTAMP:20260425T151857
CREATED:20250507T045120Z
LAST-MODIFIED:20250507T045532Z
UID:10000363-1749664800-1749668400@klondikecruisers.ca
SUMMARY:A & W cruise in for the Month of June
DESCRIPTION:We are back at A & W to cruise the dub for the month on June. Meet us every Wednesday at around 6 pm to talk cars. You should have a membership by now but if you don’t\, make sure to get one from one of our directors who are always around.
URL:https://klondikecruisers.ca/event/a-w-cruise-in-for-the-month-of-june/2025-06-11/
LOCATION:A&W\, 2222 2nd Ave\, Whitehorse\, YT\, Y1A 1C8\, Canada
ATTACH;FMTTYPE=image/jpeg:https://klondikecruisers.ca/wp-content/uploads/2019/03/Cruisin-Dub1204.jpg
ORGANIZER;CN="Klondike Cruisers":MAILTO:klondikecruisers@gmail.com
END:VEVENT
BEGIN:VEVENT
DTSTART;TZID=America/Whitehorse:20250604T180000
DTEND;TZID=America/Whitehorse:20250604T190000
DTSTAMP:20260425T151857
CREATED:20250507T045120Z
LAST-MODIFIED:20250507T045532Z
UID:10000362-1749060000-1749063600@klondikecruisers.ca
SUMMARY:A & W cruise in for the Month of June
DESCRIPTION:We are back at A & W to cruise the dub for the month on June. Meet us every Wednesday at around 6 pm to talk cars. You should have a membership by now but if you don’t\, make sure to get one from one of our directors who are always around.
URL:https://klondikecruisers.ca/event/a-w-cruise-in-for-the-month-of-june/2025-06-04/
LOCATION:A&W\, 2222 2nd Ave\, Whitehorse\, YT\, Y1A 1C8\, Canada
ATTACH;FMTTYPE=image/jpeg:https://klondikecruisers.ca/wp-content/uploads/2019/03/Cruisin-Dub1204.jpg
ORGANIZER;CN="Klondike Cruisers":MAILTO:klondikecruisers@gmail.com
END:VEVENT
END:VCALENDAR