BEGIN:VCALENDAR
VERSION:2.0
PRODID:-//Klondike Cruisers - ECPv6.15.20//NONSGML v1.0//EN
CALSCALE:GREGORIAN
METHOD:PUBLISH
X-WR-CALNAME:Klondike Cruisers
X-ORIGINAL-URL:https://klondikecruisers.ca
X-WR-CALDESC:Events for Klondike Cruisers
REFRESH-INTERVAL;VALUE=DURATION:PT1H
X-Robots-Tag:noindex
X-PUBLISHED-TTL:PT1H
BEGIN:VTIMEZONE
TZID:America/Whitehorse
BEGIN:STANDARD
TZOFFSETFROM:-0700
TZOFFSETTO:-0700
TZNAME:MST
DTSTART:20230101T000000
END:STANDARD
END:VTIMEZONE
BEGIN:VEVENT
DTSTART;TZID=America/Whitehorse:20250629T100000
DTEND;TZID=America/Whitehorse:20250629T150000
DTSTAMP:20260425T212832
CREATED:20250507T050528Z
LAST-MODIFIED:20250523T143806Z
UID:10000371-1751191200-1751209200@klondikecruisers.ca
SUMMARY:Autocross last Sunday of every month
DESCRIPTION:Can you navigate cones at relatively slow speeds? do you like to sweep parking lots ? do you like bbq meats? then Autocross may be for you. \nOn the last Sunday of every month from May to August the club will be at the Yukon Liquor warehouse parking lot testing our skills in the autocross. \n\nYou must be a member to be on the property\nYou must help with setup to participate\nYou must wear a helmet\nYou must sign a waver\nYour car must pass a technical inspection\n\na common failure is a battery that is not mechanically secured\, i.e no bungee cords\ntake out all loose items\, including the spare tire and glovebox contents\n\n\nYou must obey the track marshals and flag people\n\nThere will food and drinks on site and a porta potty \nIts a great time to see if you know how to handle your car in tight quarters
URL:https://klondikecruisers.ca/event/autocross-last-sunday-of-every-month-2/2025-06-29/
LOCATION:Yukon Liquor Corp\, 9031 Quartz Rd\, Whitehorse\, YT\, y1a4p9\, Canada
ATTACH;FMTTYPE=image/jpeg:https://klondikecruisers.ca/wp-content/uploads/2019/03/TG-S10.jpg
ORGANIZER;CN="Klondike Cruisers":MAILTO:klondikecruisers@gmail.com
END:VEVENT
BEGIN:VEVENT
DTSTART;TZID=America/Whitehorse:20250625T180000
DTEND;TZID=America/Whitehorse:20250625T190000
DTSTAMP:20260425T212832
CREATED:20250507T045120Z
LAST-MODIFIED:20250507T045532Z
UID:10000365-1750874400-1750878000@klondikecruisers.ca
SUMMARY:A & W cruise in for the Month of June
DESCRIPTION:We are back at A & W to cruise the dub for the month on June. Meet us every Wednesday at around 6 pm to talk cars. You should have a membership by now but if you don’t\, make sure to get one from one of our directors who are always around.
URL:https://klondikecruisers.ca/event/a-w-cruise-in-for-the-month-of-june/2025-06-25/
LOCATION:A&W\, 2222 2nd Ave\, Whitehorse\, YT\, Y1A 1C8\, Canada
ATTACH;FMTTYPE=image/jpeg:https://klondikecruisers.ca/wp-content/uploads/2019/03/Cruisin-Dub1204.jpg
ORGANIZER;CN="Klondike Cruisers":MAILTO:klondikecruisers@gmail.com
END:VEVENT
BEGIN:VEVENT
DTSTART;TZID=America/Whitehorse:20250625T170000
DTEND;TZID=America/Whitehorse:20250625T180000
DTSTAMP:20260425T212832
CREATED:20250528T173508Z
LAST-MODIFIED:20250528T173508Z
UID:10000379-1750870800-1750874400@klondikecruisers.ca
SUMMARY:Copper Ridge Place care home cruise
DESCRIPTION:We are once again making the time to visit the care facilities in Whitehorse. \nThis week we are visiting Copper Ridge Place. Its a great opportunity to share our passion for vehicles. Many of the residents don’t get a lot of visitors and are limited in their outings due to mobility issues\, so they are incredibly appreciative of our visits. \nWe are meeting there from 5 to 6 and continuing on to our regular Wednesday night cruise at A & W after that. \n 
URL:https://klondikecruisers.ca/event/copper-ridge-place-care-home-cruise/
LOCATION:Copper Ridge Place\, 60 Lazulite DrY1A 6S9\, Whitehrose\, yt\, y1a6s9\, Canada
ORGANIZER;CN="Klondike Cruisers":MAILTO:klondikecruisers@gmail.com
END:VEVENT
BEGIN:VEVENT
DTSTART;TZID=America/Whitehorse:20250618T180000
DTEND;TZID=America/Whitehorse:20250618T190000
DTSTAMP:20260425T212832
CREATED:20250507T045120Z
LAST-MODIFIED:20250507T045532Z
UID:10000364-1750269600-1750273200@klondikecruisers.ca
SUMMARY:A & W cruise in for the Month of June
DESCRIPTION:We are back at A & W to cruise the dub for the month on June. Meet us every Wednesday at around 6 pm to talk cars. You should have a membership by now but if you don’t\, make sure to get one from one of our directors who are always around.
URL:https://klondikecruisers.ca/event/a-w-cruise-in-for-the-month-of-june/2025-06-18/
LOCATION:A&W\, 2222 2nd Ave\, Whitehorse\, YT\, Y1A 1C8\, Canada
ATTACH;FMTTYPE=image/jpeg:https://klondikecruisers.ca/wp-content/uploads/2019/03/Cruisin-Dub1204.jpg
ORGANIZER;CN="Klondike Cruisers":MAILTO:klondikecruisers@gmail.com
END:VEVENT
BEGIN:VEVENT
DTSTART;TZID=America/Whitehorse:20250615T100000
DTEND;TZID=America/Whitehorse:20250615T150000
DTSTAMP:20260425T212832
CREATED:20250507T051208Z
LAST-MODIFIED:20250612T040957Z
UID:10000374-1749981600-1749999600@klondikecruisers.ca
SUMMARY:Father's Day show and shine
DESCRIPTION:Its time for our annual car show up at the Yukon Transportation Museum \nAll makes and models are welcome\, including motorcycles. If it has wheels\, you’re in \n\nIts free for members to enter a vehicle or $20 for non members. Hint hint\, pick up a $50 membership at the show!\nThere will be a food truck and music on site\nThere will be door prizes\nThere will be judged categories with prizes that you can choose to enter
URL:https://klondikecruisers.ca/event/fathers-day-show-and-shine-3/
LOCATION:Yukon Transportation Museum\, 30 Electra Crescent\, Whitehorse\, YT\, Y1A5W4\, Canada
ATTACH;FMTTYPE=image/jpeg:https://klondikecruisers.ca/wp-content/uploads/2018/03/Show-and-Shine.jpg
ORGANIZER;CN="Klondike Cruisers":MAILTO:klondikecruisers@gmail.com
END:VEVENT
BEGIN:VEVENT
DTSTART;TZID=America/Whitehorse:20250614T100000
DTEND;TZID=America/Whitehorse:20250614T110000
DTSTAMP:20260425T212832
CREATED:20250507T044237Z
LAST-MODIFIED:20250528T172738Z
UID:10000336-1749895200-1749898800@klondikecruisers.ca
SUMMARY:Cars and Coffee 2nd Saturday of every month
DESCRIPTION:Its time for Cars and Coffee at the Territorial Auto parking lot. Every cars and coffee this year is also a swap meet so bring down some parts because you never know who may need em.
URL:https://klondikecruisers.ca/event/cars-and-coffee-every-2nd-saturday/2025-06-14/
LOCATION:Territorial Auto Parts\, 9004 Quartz Road\, Whitehorse\, YT\, Y1A 2Z5\, Canada
ATTACH;FMTTYPE=image/png:https://klondikecruisers.ca/wp-content/uploads/2018/04/Cars-and-Coffee.png
ORGANIZER;CN="Klondike Cruisers":MAILTO:klondikecruisers@gmail.com
END:VEVENT
BEGIN:VEVENT
DTSTART;TZID=America/Whitehorse:20250611T180000
DTEND;TZID=America/Whitehorse:20250611T190000
DTSTAMP:20260425T212832
CREATED:20250507T045120Z
LAST-MODIFIED:20250507T045532Z
UID:10000363-1749664800-1749668400@klondikecruisers.ca
SUMMARY:A & W cruise in for the Month of June
DESCRIPTION:We are back at A & W to cruise the dub for the month on June. Meet us every Wednesday at around 6 pm to talk cars. You should have a membership by now but if you don’t\, make sure to get one from one of our directors who are always around.
URL:https://klondikecruisers.ca/event/a-w-cruise-in-for-the-month-of-june/2025-06-11/
LOCATION:A&W\, 2222 2nd Ave\, Whitehorse\, YT\, Y1A 1C8\, Canada
ATTACH;FMTTYPE=image/jpeg:https://klondikecruisers.ca/wp-content/uploads/2019/03/Cruisin-Dub1204.jpg
ORGANIZER;CN="Klondike Cruisers":MAILTO:klondikecruisers@gmail.com
END:VEVENT
BEGIN:VEVENT
DTSTART;TZID=America/Whitehorse:20250604T180000
DTEND;TZID=America/Whitehorse:20250604T190000
DTSTAMP:20260425T212832
CREATED:20250507T045120Z
LAST-MODIFIED:20250507T045532Z
UID:10000362-1749060000-1749063600@klondikecruisers.ca
SUMMARY:A & W cruise in for the Month of June
DESCRIPTION:We are back at A & W to cruise the dub for the month on June. Meet us every Wednesday at around 6 pm to talk cars. You should have a membership by now but if you don’t\, make sure to get one from one of our directors who are always around.
URL:https://klondikecruisers.ca/event/a-w-cruise-in-for-the-month-of-june/2025-06-04/
LOCATION:A&W\, 2222 2nd Ave\, Whitehorse\, YT\, Y1A 1C8\, Canada
ATTACH;FMTTYPE=image/jpeg:https://klondikecruisers.ca/wp-content/uploads/2019/03/Cruisin-Dub1204.jpg
ORGANIZER;CN="Klondike Cruisers":MAILTO:klondikecruisers@gmail.com
END:VEVENT
BEGIN:VEVENT
DTSTART;TZID=America/Whitehorse:20250601T100000
DTEND;TZID=America/Whitehorse:20250601T150000
DTSTAMP:20260425T212832
CREATED:20250523T144300Z
LAST-MODIFIED:20250523T144830Z
UID:10000378-1748772000-1748790000@klondikecruisers.ca
SUMMARY:Autocross 1st run of the year
DESCRIPTION:Can you navigate cones at relatively slow speeds? do you like to sweep parking lots ? do you like bbq meats? then Autocross may be for you. \nDATE CHANGE: The 1st run of the year is taking place June 1 \n  \nOtherwise they run on the last Sunday of every month from June to August at the Yukon Liquor warehouse parking lot testing our skills in the autocross. \n\nYou must be a member to be on the property\nYou must help with setup to participate\nYou must wear a helmet\nYou must sign a waver\nYour car must pass a technical inspection\n\na common failure is a battery that is not mechanically secured\, i.e no bungee cords\ntake out all loose items\, including the spare tire and glovebox contents\n\n\nYou must obey the track marshals and flag people\n\nThere will food and drinks on site and a porta potty \nIts a great time to see if you know how to handle your car in tight quarters
URL:https://klondikecruisers.ca/event/autocross-1st-run-of-the-year/
LOCATION:Yukon Liquor Corp\, 9031 Quartz Rd\, Whitehorse\, YT\, y1a4p9\, Canada
ATTACH;FMTTYPE=image/jpeg:https://klondikecruisers.ca/wp-content/uploads/2019/03/TG-S10.jpg
ORGANIZER;CN="Klondike Cruisers":MAILTO:klondikecruisers@gmail.com
END:VEVENT
BEGIN:VEVENT
DTSTART;TZID=America/Whitehorse:20250528T180000
DTEND;TZID=America/Whitehorse:20250528T190000
DTSTAMP:20260425T212832
CREATED:20250507T043819Z
LAST-MODIFIED:20250507T044354Z
UID:10000282-1748455200-1748458800@klondikecruisers.ca
SUMMARY:Cruise to Dairy Queen Month of May
DESCRIPTION:Join us at the DQ for tasty burgers and ice cream treats. Its also a great time to pick up a 2025 membership so you don’t miss out on all of our great discounts.
URL:https://klondikecruisers.ca/event/cruise-to-dairy-queen-month-of-may/2025-05-28/
LOCATION:Dairy Queen Grill & Chill\, 107 Range Rd\, Whitehorse\, yukon\, y1a3e5\, Canada
ATTACH;FMTTYPE=image/png:https://klondikecruisers.ca/wp-content/uploads/2022/04/DairyQueen.png
ORGANIZER;CN="Klondike Cruisers":MAILTO:klondikecruisers@gmail.com
END:VEVENT
BEGIN:VEVENT
DTSTART;TZID=America/Whitehorse:20250523T173000
DTEND;TZID=America/Whitehorse:20250523T203000
DTSTAMP:20260425T212832
CREATED:20250507T044831Z
LAST-MODIFIED:20250507T044831Z
UID:10000351-1748021400-1748032200@klondikecruisers.ca
SUMMARY:Poker run past Emerald Lake to Yukon Wild
DESCRIPTION:Time to get the motor out of the garage for a poker run. This run will lead us past Emerald Lake with a final destination of Yukon Wild (formerly Caribou Crossing) where you can grab some food. Details to follow by email
URL:https://klondikecruisers.ca/event/poker-run-past-emerald-lake-to-yukon-wild/
LOCATION:Caribou Crossing Trading Post\, Carcross\, YT\, Canada
ATTACH;FMTTYPE=image/png:https://klondikecruisers.ca/wp-content/uploads/2022/04/unnamed.png
ORGANIZER;CN="Klondike Cruisers":MAILTO:klondikecruisers@gmail.com
END:VEVENT
BEGIN:VEVENT
DTSTART;TZID=America/Whitehorse:20250521T180000
DTEND;TZID=America/Whitehorse:20250521T190000
DTSTAMP:20260425T212832
CREATED:20250507T043819Z
LAST-MODIFIED:20250507T044354Z
UID:10000281-1747850400-1747854000@klondikecruisers.ca
SUMMARY:Cruise to Dairy Queen Month of May
DESCRIPTION:Join us at the DQ for tasty burgers and ice cream treats. Its also a great time to pick up a 2025 membership so you don’t miss out on all of our great discounts.
URL:https://klondikecruisers.ca/event/cruise-to-dairy-queen-month-of-may/2025-05-21/
LOCATION:Dairy Queen Grill & Chill\, 107 Range Rd\, Whitehorse\, yukon\, y1a3e5\, Canada
ATTACH;FMTTYPE=image/png:https://klondikecruisers.ca/wp-content/uploads/2022/04/DairyQueen.png
ORGANIZER;CN="Klondike Cruisers":MAILTO:klondikecruisers@gmail.com
END:VEVENT
BEGIN:VEVENT
DTSTART;TZID=America/Whitehorse:20250514T180000
DTEND;TZID=America/Whitehorse:20250514T190000
DTSTAMP:20260425T212832
CREATED:20250507T043819Z
LAST-MODIFIED:20250507T044354Z
UID:10000280-1747245600-1747249200@klondikecruisers.ca
SUMMARY:Cruise to Dairy Queen Month of May
DESCRIPTION:Join us at the DQ for tasty burgers and ice cream treats. Its also a great time to pick up a 2025 membership so you don’t miss out on all of our great discounts.
URL:https://klondikecruisers.ca/event/cruise-to-dairy-queen-month-of-may/2025-05-14/
LOCATION:Dairy Queen Grill & Chill\, 107 Range Rd\, Whitehorse\, yukon\, y1a3e5\, Canada
ATTACH;FMTTYPE=image/png:https://klondikecruisers.ca/wp-content/uploads/2022/04/DairyQueen.png
ORGANIZER;CN="Klondike Cruisers":MAILTO:klondikecruisers@gmail.com
END:VEVENT
BEGIN:VEVENT
DTSTART;TZID=America/Whitehorse:20250510T100000
DTEND;TZID=America/Whitehorse:20250510T110000
DTSTAMP:20260425T212832
CREATED:20250507T044237Z
LAST-MODIFIED:20250528T172738Z
UID:10000335-1746871200-1746874800@klondikecruisers.ca
SUMMARY:Cars and Coffee 2nd Saturday of every month
DESCRIPTION:Its time for Cars and Coffee at the Territorial Auto parking lot. Every cars and coffee this year is also a swap meet so bring down some parts because you never know who may need em.
URL:https://klondikecruisers.ca/event/cars-and-coffee-every-2nd-saturday/2025-05-10/
LOCATION:Territorial Auto Parts\, 9004 Quartz Road\, Whitehorse\, YT\, Y1A 2Z5\, Canada
ATTACH;FMTTYPE=image/png:https://klondikecruisers.ca/wp-content/uploads/2018/04/Cars-and-Coffee.png
ORGANIZER;CN="Klondike Cruisers":MAILTO:klondikecruisers@gmail.com
END:VEVENT
BEGIN:VEVENT
DTSTART;TZID=America/Whitehorse:20250507T180000
DTEND;TZID=America/Whitehorse:20250507T190000
DTSTAMP:20260425T212832
CREATED:20250507T043819Z
LAST-MODIFIED:20250507T044354Z
UID:10000279-1746640800-1746644400@klondikecruisers.ca
SUMMARY:Cruise to Dairy Queen Month of May
DESCRIPTION:Join us at the DQ for tasty burgers and ice cream treats. Its also a great time to pick up a 2025 membership so you don’t miss out on all of our great discounts.
URL:https://klondikecruisers.ca/event/cruise-to-dairy-queen-month-of-may/2025-05-07/
LOCATION:Dairy Queen Grill & Chill\, 107 Range Rd\, Whitehorse\, yukon\, y1a3e5\, Canada
ATTACH;FMTTYPE=image/png:https://klondikecruisers.ca/wp-content/uploads/2022/04/DairyQueen.png
ORGANIZER;CN="Klondike Cruisers":MAILTO:klondikecruisers@gmail.com
END:VEVENT
BEGIN:VEVENT
DTSTART;TZID=America/Whitehorse:20240925T180000
DTEND;TZID=America/Whitehorse:20240925T193000
DTSTAMP:20260425T212832
CREATED:20240421T223740Z
LAST-MODIFIED:20240421T223740Z
UID:10000265-1727287200-1727292600@klondikecruisers.ca
SUMMARY:Year end pit stop
DESCRIPTION:This is the last meet of the year for the Klondike Cruisers \nLocations TBD
URL:https://klondikecruisers.ca/event/year-end-pit-stop-2/
LOCATION:Kopper King Neighbours pub\, 91888 Alaska Hwy YT Y1A 5G5\, Whitehorse\, YT\, y1a 5g5\, Canada
ATTACH;FMTTYPE=image/jpeg:https://klondikecruisers.ca/wp-content/uploads/2022/09/308506283_3961699913954314_6436356146683803535_n.jpg
ORGANIZER;CN="Klondike Cruisers":MAILTO:klondikecruisers@gmail.com
END:VEVENT
BEGIN:VEVENT
DTSTART;TZID=America/Whitehorse:20240918T180000
DTEND;TZID=America/Whitehorse:20240918T193000
DTSTAMP:20260425T212832
CREATED:20240421T223604Z
LAST-MODIFIED:20240421T223604Z
UID:10000264-1726682400-1726687800@klondikecruisers.ca
SUMMARY:Weekly meet at Dairy Queen
DESCRIPTION:The season is winding down but there is still time to meet up at DQ. Sept 25 is the last official meet of the season \n6:00 p.m. to 7:30 p.m.
URL:https://klondikecruisers.ca/event/weekly-meet-at-dairy-queen/2024-09-18/
LOCATION:YT
ATTACH;FMTTYPE=image/png:https://klondikecruisers.ca/wp-content/uploads/2022/04/DairyQueen.png
END:VEVENT
BEGIN:VEVENT
DTSTART;TZID=America/Whitehorse:20240914T100000
DTEND;TZID=America/Whitehorse:20240914T110000
DTSTAMP:20260425T212832
CREATED:20240421T225900Z
LAST-MODIFIED:20240421T225900Z
UID:10000274-1726308000-1726311600@klondikecruisers.ca
SUMMARY:Cars and Coffee at Territorial Auto
DESCRIPTION:Join us for coffee and car talk\, the 2nd Saturday of every month until September. \ncoffee will be provided \n10:00 a.m. to 11:00 a.m
URL:https://klondikecruisers.ca/event/cars-and-coffee-at-territorial-auto/2024-09-14/
LOCATION:Territorial Auto Parts\, 9004 Quartz Road\, Whitehorse\, YT\, Y1A 2Z5\, Canada
ATTACH;FMTTYPE=image/png:https://klondikecruisers.ca/wp-content/uploads/2018/04/Cars-and-Coffee.png
ORGANIZER;CN="Klondike Cruisers":MAILTO:klondikecruisers@gmail.com
END:VEVENT
BEGIN:VEVENT
DTSTART;TZID=America/Whitehorse:20240911T180000
DTEND;TZID=America/Whitehorse:20240911T193000
DTSTAMP:20260425T212832
CREATED:20240421T223604Z
LAST-MODIFIED:20240421T223604Z
UID:10000263-1726077600-1726083000@klondikecruisers.ca
SUMMARY:Weekly meet at Dairy Queen
DESCRIPTION:The season is winding down but there is still time to meet up at DQ. Sept 25 is the last official meet of the season \n6:00 p.m. to 7:30 p.m.
URL:https://klondikecruisers.ca/event/weekly-meet-at-dairy-queen/2024-09-11/
LOCATION:YT
ATTACH;FMTTYPE=image/png:https://klondikecruisers.ca/wp-content/uploads/2022/04/DairyQueen.png
END:VEVENT
BEGIN:VEVENT
DTSTART;TZID=America/Whitehorse:20240904T180000
DTEND;TZID=America/Whitehorse:20240904T193000
DTSTAMP:20260425T212832
CREATED:20240421T223604Z
LAST-MODIFIED:20240421T223604Z
UID:10000262-1725472800-1725478200@klondikecruisers.ca
SUMMARY:Weekly meet at Dairy Queen
DESCRIPTION:The season is winding down but there is still time to meet up at DQ. Sept 25 is the last official meet of the season \n6:00 p.m. to 7:30 p.m.
URL:https://klondikecruisers.ca/event/weekly-meet-at-dairy-queen/2024-09-04/
LOCATION:YT
ATTACH;FMTTYPE=image/png:https://klondikecruisers.ca/wp-content/uploads/2022/04/DairyQueen.png
END:VEVENT
BEGIN:VEVENT
DTSTART;TZID=America/Whitehorse:20240828T180000
DTEND;TZID=America/Whitehorse:20240828T193000
DTSTAMP:20260425T212832
CREATED:20240421T223329Z
LAST-MODIFIED:20240421T223329Z
UID:10000261-1724868000-1724873400@klondikecruisers.ca
SUMMARY:Weekly cruise to A & W
DESCRIPTION:We are back at A & W for the rest of the month of August. Join us every Wednesday. \n6:00 p.m. to 7:30 p.m.
URL:https://klondikecruisers.ca/event/weekly-cruise-to-a-w-3/2024-08-28/
LOCATION:YT
END:VEVENT
BEGIN:VEVENT
DTSTART;TZID=America/Whitehorse:20240825T100000
DTEND;TZID=America/Whitehorse:20240825T150000
DTSTAMP:20260425T212832
CREATED:20240421T225232Z
LAST-MODIFIED:20240421T225232Z
UID:10000269-1724580000-1724598000@klondikecruisers.ca
SUMMARY:Autocross - last Sunday of every Month
DESCRIPTION:Come and test your driving skills in our Autocross event by racing through the cones. This is a laser timed solo event. We also do a 100 foot shootout at the end of the event. \nParticipants must help setup if they want to compete. \nThe location again this year\, is at the Liquor Corp warehouse parking lot. This on Industrial next to Erik’s audio. \n  \nSee below for rules: \n\nOnly members are allowed inside the fenced compound\nTo meet our insurance requirements\, you must be a member of the Klondike Cruisers to compete\n\nmemberships will be available on site for $50 a year\n\n\nYou must sign our waiver\nYou must wear a seatbelt\nYou must wear a Snell approved helmet\nYou must obey green or red flags\, and any of the marshals on the course\nYour car must pass a technical inspection\n\nWe check suspension\, steering\, and tires\nWe check under the hood to ensure there are no unsecured parts.\n\nAn un secured battery is a common problem\n\n\nAll loose items must be removed from the car\, including the spare tire\n\n\n\nThere will be some beverages\, food\, and a toilet on site. \nLast Sunday of each month with the last one being in August. \n 
URL:https://klondikecruisers.ca/event/autocross-last-sunday-of-every-month/2024-08-25/
LOCATION:Yukon Liquor Corp\, 9031 Quartz Rd\, Whitehorse\, YT\, y1a4p9\, Canada
ATTACH;FMTTYPE=image/jpeg:https://klondikecruisers.ca/wp-content/uploads/2019/03/TG-S10.jpg
END:VEVENT
BEGIN:VEVENT
DTSTART;TZID=America/Whitehorse:20240824T100000
DTEND;TZID=America/Whitehorse:20240824T150000
DTSTAMP:20260425T212832
CREATED:20240421T231902Z
LAST-MODIFIED:20240421T232118Z
UID:10000277-1724493600-1724511600@klondikecruisers.ca
SUMMARY:Cruise to Carcross - COPA fly in
DESCRIPTION:Poker Run and Cruise Down to Carcross Airstrip to meet up with COPA for their Fly In.\nThis will be our fifth year attending this great event. Saturday August 24th 10:00 AM \nPoker run will start in the Yukon Transportation Museum \n$10/hand with 50% as the prize for the best hand. \n\nWe will make numerous stops on our way down to Carcross for additional cards. \n\nOr just drive down and join us at the Carcross Airport.\n\n\n\n\nThe Schnitzel Food Truck will be onsite from 11 AM to 3 PM. \nCaribou Hotel Lounge and the famous Coffee Shop will be open in Carcross. \n\n\nThe Canadian Owners and Pilot’s Association (COPA) is organizing the fly in.
URL:https://klondikecruisers.ca/event/cruise-to-carcross-copa-fly-in-3/
LOCATION:YT
ORGANIZER;CN="Klondike Cruisers":MAILTO:klondikecruisers@gmail.com
END:VEVENT
BEGIN:VEVENT
DTSTART;TZID=America/Whitehorse:20240821T180000
DTEND;TZID=America/Whitehorse:20240821T193000
DTSTAMP:20260425T212832
CREATED:20240421T223329Z
LAST-MODIFIED:20240421T223329Z
UID:10000260-1724263200-1724268600@klondikecruisers.ca
SUMMARY:Weekly cruise to A & W
DESCRIPTION:We are back at A & W for the rest of the month of August. Join us every Wednesday. \n6:00 p.m. to 7:30 p.m.
URL:https://klondikecruisers.ca/event/weekly-cruise-to-a-w-3/2024-08-21/
LOCATION:YT
END:VEVENT
BEGIN:VEVENT
DTSTART;TZID=America/Whitehorse:20240814T180000
DTEND;TZID=America/Whitehorse:20240814T193000
DTSTAMP:20260425T212832
CREATED:20240421T223150Z
LAST-MODIFIED:20240421T223202Z
UID:10000259-1723658400-1723663800@klondikecruisers.ca
SUMMARY:Take out / Take over Main street
DESCRIPTION:Come and join us for something different this week. Instead of a fast food rendezvous we will be parking on Main street between 3rd and 4th. \nPick up some take out from a local business downtown\, then join us as we take over Main Street. \n6:00 p.m. to 7:30 p.m. \nThe street is open so as always\, obey all traffic laws and be respectful to other motorists and pedestrians.
URL:https://klondikecruisers.ca/event/take-out-take-over-main-street/
LOCATION:YT
ATTACH;FMTTYPE=image/png:https://klondikecruisers.ca/wp-content/uploads/2022/04/KC-STK-Metallic.png
ORGANIZER;CN="Klondike Cruisers":MAILTO:klondikecruisers@gmail.com
END:VEVENT
BEGIN:VEVENT
DTSTART;TZID=America/Whitehorse:20240810T100000
DTEND;TZID=America/Whitehorse:20240810T110000
DTSTAMP:20260425T212832
CREATED:20240421T225900Z
LAST-MODIFIED:20240421T225900Z
UID:10000273-1723284000-1723287600@klondikecruisers.ca
SUMMARY:Cars and Coffee at Territorial Auto
DESCRIPTION:Join us for coffee and car talk\, the 2nd Saturday of every month until September. \ncoffee will be provided \n10:00 a.m. to 11:00 a.m
URL:https://klondikecruisers.ca/event/cars-and-coffee-at-territorial-auto/2024-08-10/
LOCATION:Territorial Auto Parts\, 9004 Quartz Road\, Whitehorse\, YT\, Y1A 2Z5\, Canada
ATTACH;FMTTYPE=image/png:https://klondikecruisers.ca/wp-content/uploads/2018/04/Cars-and-Coffee.png
ORGANIZER;CN="Klondike Cruisers":MAILTO:klondikecruisers@gmail.com
END:VEVENT
BEGIN:VEVENT
DTSTART;TZID=America/Whitehorse:20240807T180000
DTEND;TZID=America/Whitehorse:20240807T193000
DTSTAMP:20260425T212832
CREATED:20240421T222628Z
LAST-MODIFIED:20240421T222700Z
UID:10000258-1723053600-1723059000@klondikecruisers.ca
SUMMARY:Weekly cruise to A & W
DESCRIPTION:We are back at A & W for the month of August except on August 14 \nmeet at 6:00 p.m. to 7:30 p.m.
URL:https://klondikecruisers.ca/event/weekly-cruise-to-a-w-2/
LOCATION:A&W\, 2222 2nd Ave\, Whitehorse\, YT\, Y1A 1C8\, Canada
ATTACH;FMTTYPE=image/jpeg:https://klondikecruisers.ca/wp-content/uploads/2019/03/Cruisin-Dub1204.jpg
ORGANIZER;CN="Klondike Cruisers":MAILTO:klondikecruisers@gmail.com
END:VEVENT
BEGIN:VEVENT
DTSTART;TZID=America/Whitehorse:20240731T180000
DTEND;TZID=America/Whitehorse:20240731T193000
DTSTAMP:20260425T212832
CREATED:20240421T221857Z
LAST-MODIFIED:20240421T221857Z
UID:10000256-1722448800-1722454200@klondikecruisers.ca
SUMMARY:Weekly Cruise to DQ
DESCRIPTION:We will be cruising to DQ for the rest of the month on July \n6:00 p.m. to 7:30 p.m. \n 
URL:https://klondikecruisers.ca/event/weekly-cruise-to-dq-2/2024-07-31/
LOCATION:YT
ATTACH;FMTTYPE=image/png:https://klondikecruisers.ca/wp-content/uploads/2022/04/DairyQueen.png
END:VEVENT
BEGIN:VEVENT
DTSTART;TZID=America/Whitehorse:20240728T100000
DTEND;TZID=America/Whitehorse:20240728T150000
DTSTAMP:20260425T212832
CREATED:20240421T225232Z
LAST-MODIFIED:20240421T225232Z
UID:10000268-1722160800-1722178800@klondikecruisers.ca
SUMMARY:Autocross - last Sunday of every Month
DESCRIPTION:Come and test your driving skills in our Autocross event by racing through the cones. This is a laser timed solo event. We also do a 100 foot shootout at the end of the event. \nParticipants must help setup if they want to compete. \nThe location again this year\, is at the Liquor Corp warehouse parking lot. This on Industrial next to Erik’s audio. \n  \nSee below for rules: \n\nOnly members are allowed inside the fenced compound\nTo meet our insurance requirements\, you must be a member of the Klondike Cruisers to compete\n\nmemberships will be available on site for $50 a year\n\n\nYou must sign our waiver\nYou must wear a seatbelt\nYou must wear a Snell approved helmet\nYou must obey green or red flags\, and any of the marshals on the course\nYour car must pass a technical inspection\n\nWe check suspension\, steering\, and tires\nWe check under the hood to ensure there are no unsecured parts.\n\nAn un secured battery is a common problem\n\n\nAll loose items must be removed from the car\, including the spare tire\n\n\n\nThere will be some beverages\, food\, and a toilet on site. \nLast Sunday of each month with the last one being in August. \n 
URL:https://klondikecruisers.ca/event/autocross-last-sunday-of-every-month/2024-07-28/
LOCATION:Yukon Liquor Corp\, 9031 Quartz Rd\, Whitehorse\, YT\, y1a4p9\, Canada
ATTACH;FMTTYPE=image/jpeg:https://klondikecruisers.ca/wp-content/uploads/2019/03/TG-S10.jpg
END:VEVENT
BEGIN:VEVENT
DTSTART;TZID=America/Whitehorse:20240724T180000
DTEND;TZID=America/Whitehorse:20240724T193000
DTSTAMP:20260425T212832
CREATED:20240421T221857Z
LAST-MODIFIED:20240421T221857Z
UID:10000255-1721844000-1721849400@klondikecruisers.ca
SUMMARY:Weekly Cruise to DQ
DESCRIPTION:We will be cruising to DQ for the rest of the month on July \n6:00 p.m. to 7:30 p.m. \n 
URL:https://klondikecruisers.ca/event/weekly-cruise-to-dq-2/2024-07-24/
LOCATION:YT
ATTACH;FMTTYPE=image/png:https://klondikecruisers.ca/wp-content/uploads/2022/04/DairyQueen.png
END:VEVENT
END:VCALENDAR