BEGIN:VCALENDAR
VERSION:2.0
PRODID:-//Klondike Cruisers - ECPv6.15.20//NONSGML v1.0//EN
CALSCALE:GREGORIAN
METHOD:PUBLISH
X-ORIGINAL-URL:https://klondikecruisers.ca
X-WR-CALDESC:Events for Klondike Cruisers
REFRESH-INTERVAL;VALUE=DURATION:PT1H
X-Robots-Tag:noindex
X-PUBLISHED-TTL:PT1H
BEGIN:VTIMEZONE
TZID:America/Whitehorse
BEGIN:DAYLIGHT
TZOFFSETFROM:-0800
TZOFFSETTO:-0700
TZNAME:PDT
DTSTART:20200308T100000
END:DAYLIGHT
BEGIN:STANDARD
TZOFFSETFROM:-0700
TZOFFSETTO:-0700
TZNAME:MST
DTSTART:20201101T070000
END:STANDARD
END:VTIMEZONE
BEGIN:VEVENT
DTSTART;TZID=America/Whitehorse:20210620T130000
DTEND;TZID=America/Whitehorse:20210620T150000
DTSTAMP:20260425T202924
CREATED:20210609T224639Z
LAST-MODIFIED:20210609T224901Z
UID:10000070-1624194000-1624201200@klondikecruisers.ca
SUMMARY:Father's day cruise
DESCRIPTION:There will not be a Father’s Day Show N Shine this year due to Covid 19 Restrictions.  Instead we are going to take the cars to the streets and to the people. \nThis Cruise will start at the Canada Games Centre and parade through some of the major streets of Whitehorse before arriving at Porter Creek Secondary School.  The route is 40 kms long and we expect it to take 2 hours.  Route Map attached.\n\n\nHope to see many\, many vehicles out for this event.  To maintain social distance please remain near your car when you arrive.  As we want to leave CGC at 1:00 PM please arrive prior to that time. \n\n\nLeaving Canada Games Centre at 1 PM.\nArrive in Riverdale at approx 1:40 PM\nArrive Takhini at approx 2:20 PM\n\n\nfathers day cruise map\n\n  \n\nHamilton Boulevard\nMcIntyre Drive\nFalcon Drive\nThompson Road\nHamilton Boulevard/South Access Road\nLewes Boulevard/Nisutlin Drive/Alsek Road\n2nd Avenue/Two Mile Hill Road\nRange Road/Mountain View Drive/Whistle Bend Way\nCasca Boulevard/Keno Way/Olive May Way\nWhistle Bend Way/Mountain View Drive\n12th Avenue E/Centennial Street/Wann Road/Hickory Street\n\nEnding at Porter Creek Secondary School approx 3:00 PM
URL:https://klondikecruisers.ca/event/fathers-day-cruise/
LOCATION:Canada Games Centre\, 200 Hamilton Blvd\, whitehorse\, yukon\, y1a0a6\, Canada
END:VEVENT
BEGIN:VEVENT
DTSTART;TZID=America/Whitehorse:20210612T120000
DTEND;TZID=America/Whitehorse:20210612T140000
DTSTAMP:20260425T202924
CREATED:20210609T224330Z
LAST-MODIFIED:20210609T224330Z
UID:10000069-1623499200-1623506400@klondikecruisers.ca
SUMMARY:Yukon First Nation Graduation Cruise
DESCRIPTION:Join us to leave Canada Games Centre at high noon\,  for a cruise throughout Whitehorse to celebrate our grads!
URL:https://klondikecruisers.ca/event/yukon-first-nation-graduation-cruise/
LOCATION:Canada Games Centre\, 200 Hamilton Blvd\, whitehorse\, yukon\, y1a0a6\, Canada
END:VEVENT
END:VCALENDAR