BEGIN:VCALENDAR
VERSION:2.0
PRODID:-//Klondike Cruisers - ECPv6.15.20//NONSGML v1.0//EN
CALSCALE:GREGORIAN
METHOD:PUBLISH
X-ORIGINAL-URL:https://klondikecruisers.ca
X-WR-CALDESC:Events for Klondike Cruisers
REFRESH-INTERVAL;VALUE=DURATION:PT1H
X-Robots-Tag:noindex
X-PUBLISHED-TTL:PT1H
BEGIN:VTIMEZONE
TZID:America/Whitehorse
BEGIN:STANDARD
TZOFFSETFROM:-0700
TZOFFSETTO:-0700
TZNAME:MST
DTSTART:20210101T000000
END:STANDARD
END:VTIMEZONE
BEGIN:VEVENT
DTSTART;TZID=America/Whitehorse:20250903T180000
DTEND;TZID=America/Whitehorse:20250903T190000
DTSTAMP:20260425T155028
CREATED:20250902T022713Z
LAST-MODIFIED:20250902T022727Z
UID:10000446-1756922400-1756926000@klondikecruisers.ca
SUMMARY:Weekly cruise to Dairy Queen
DESCRIPTION:The weather appears to be holding\, so this week we are back at Dairy Queen
URL:https://klondikecruisers.ca/event/weekly-cruise-to-dairy-queen-4/
LOCATION:Dairy Queen Grill & Chill\, 107 Range Rd\, Whitehorse\, yukon\, y1a3e5\, Canada
ATTACH;FMTTYPE=image/png:https://klondikecruisers.ca/wp-content/uploads/2022/04/DairyQueen.png
ORGANIZER;CN="Klondike Cruisers":MAILTO:klondikecruisers@gmail.com
END:VEVENT
BEGIN:VEVENT
DTSTART;TZID=America/Whitehorse:20250730T180000
DTEND;TZID=America/Whitehorse:20250730T190000
DTSTAMP:20260425T155028
CREATED:20250607T223320Z
LAST-MODIFIED:20250607T223320Z
UID:10000440-1753898400-1753902000@klondikecruisers.ca
SUMMARY:Cruise to Dairy Queen for the rest of July
DESCRIPTION:We are back at the DQ for burgers\, ice cold treats and car talk. Join us one and all
URL:https://klondikecruisers.ca/event/cruise-to-dairy-queen-for-the-rest-of-july/2025-07-30/
LOCATION:Dairy Queen Grill & Chill\, 107 Range Rd\, Whitehorse\, yukon\, y1a3e5\, Canada
ATTACH;FMTTYPE=image/png:https://klondikecruisers.ca/wp-content/uploads/2022/04/DairyQueen.png
ORGANIZER;CN="Klondike Cruisers":MAILTO:klondikecruisers@gmail.com
END:VEVENT
BEGIN:VEVENT
DTSTART;TZID=America/Whitehorse:20250723T180000
DTEND;TZID=America/Whitehorse:20250723T190000
DTSTAMP:20260425T155028
CREATED:20250607T223320Z
LAST-MODIFIED:20250607T223320Z
UID:10000439-1753293600-1753297200@klondikecruisers.ca
SUMMARY:Cruise to Dairy Queen for the rest of July
DESCRIPTION:We are back at the DQ for burgers\, ice cold treats and car talk. Join us one and all
URL:https://klondikecruisers.ca/event/cruise-to-dairy-queen-for-the-rest-of-july/2025-07-23/
LOCATION:Dairy Queen Grill & Chill\, 107 Range Rd\, Whitehorse\, yukon\, y1a3e5\, Canada
ATTACH;FMTTYPE=image/png:https://klondikecruisers.ca/wp-content/uploads/2022/04/DairyQueen.png
ORGANIZER;CN="Klondike Cruisers":MAILTO:klondikecruisers@gmail.com
END:VEVENT
BEGIN:VEVENT
DTSTART;TZID=America/Whitehorse:20250709T180000
DTEND;TZID=America/Whitehorse:20250709T190000
DTSTAMP:20260425T155028
CREATED:20250507T045501Z
LAST-MODIFIED:20250607T223120Z
UID:10000358-1752084000-1752087600@klondikecruisers.ca
SUMMARY:Cruise to Dairy Queen for the month of July
DESCRIPTION:Back at the DQ every Wednesday in July. It should be hot by now so pick up a cool tasty treat. There will also be cars to look at.
URL:https://klondikecruisers.ca/event/cruise-to-dairy-queen-for-the-month-of-july/2025-07-09/
LOCATION:Dairy Queen Grill & Chill\, 107 Range Rd\, Whitehorse\, yukon\, y1a3e5\, Canada
ATTACH;FMTTYPE=image/png:https://klondikecruisers.ca/wp-content/uploads/2022/04/DairyQueen.png
ORGANIZER;CN="Klondike Cruisers":MAILTO:klondikecruisers@gmail.com
END:VEVENT
BEGIN:VEVENT
DTSTART;TZID=America/Whitehorse:20250702T180000
DTEND;TZID=America/Whitehorse:20250702T190000
DTSTAMP:20260425T155028
CREATED:20250507T045501Z
LAST-MODIFIED:20250607T223120Z
UID:10000357-1751479200-1751482800@klondikecruisers.ca
SUMMARY:Cruise to Dairy Queen for the month of July
DESCRIPTION:Back at the DQ every Wednesday in July. It should be hot by now so pick up a cool tasty treat. There will also be cars to look at.
URL:https://klondikecruisers.ca/event/cruise-to-dairy-queen-for-the-month-of-july/2025-07-02/
LOCATION:Dairy Queen Grill & Chill\, 107 Range Rd\, Whitehorse\, yukon\, y1a3e5\, Canada
ATTACH;FMTTYPE=image/png:https://klondikecruisers.ca/wp-content/uploads/2022/04/DairyQueen.png
ORGANIZER;CN="Klondike Cruisers":MAILTO:klondikecruisers@gmail.com
END:VEVENT
BEGIN:VEVENT
DTSTART;TZID=America/Whitehorse:20250528T180000
DTEND;TZID=America/Whitehorse:20250528T190000
DTSTAMP:20260425T155028
CREATED:20250507T043819Z
LAST-MODIFIED:20250507T044354Z
UID:10000282-1748455200-1748458800@klondikecruisers.ca
SUMMARY:Cruise to Dairy Queen Month of May
DESCRIPTION:Join us at the DQ for tasty burgers and ice cream treats. Its also a great time to pick up a 2025 membership so you don’t miss out on all of our great discounts.
URL:https://klondikecruisers.ca/event/cruise-to-dairy-queen-month-of-may/2025-05-28/
LOCATION:Dairy Queen Grill & Chill\, 107 Range Rd\, Whitehorse\, yukon\, y1a3e5\, Canada
ATTACH;FMTTYPE=image/png:https://klondikecruisers.ca/wp-content/uploads/2022/04/DairyQueen.png
ORGANIZER;CN="Klondike Cruisers":MAILTO:klondikecruisers@gmail.com
END:VEVENT
BEGIN:VEVENT
DTSTART;TZID=America/Whitehorse:20250521T180000
DTEND;TZID=America/Whitehorse:20250521T190000
DTSTAMP:20260425T155028
CREATED:20250507T043819Z
LAST-MODIFIED:20250507T044354Z
UID:10000281-1747850400-1747854000@klondikecruisers.ca
SUMMARY:Cruise to Dairy Queen Month of May
DESCRIPTION:Join us at the DQ for tasty burgers and ice cream treats. Its also a great time to pick up a 2025 membership so you don’t miss out on all of our great discounts.
URL:https://klondikecruisers.ca/event/cruise-to-dairy-queen-month-of-may/2025-05-21/
LOCATION:Dairy Queen Grill & Chill\, 107 Range Rd\, Whitehorse\, yukon\, y1a3e5\, Canada
ATTACH;FMTTYPE=image/png:https://klondikecruisers.ca/wp-content/uploads/2022/04/DairyQueen.png
ORGANIZER;CN="Klondike Cruisers":MAILTO:klondikecruisers@gmail.com
END:VEVENT
BEGIN:VEVENT
DTSTART;TZID=America/Whitehorse:20250514T180000
DTEND;TZID=America/Whitehorse:20250514T190000
DTSTAMP:20260425T155028
CREATED:20250507T043819Z
LAST-MODIFIED:20250507T044354Z
UID:10000280-1747245600-1747249200@klondikecruisers.ca
SUMMARY:Cruise to Dairy Queen Month of May
DESCRIPTION:Join us at the DQ for tasty burgers and ice cream treats. Its also a great time to pick up a 2025 membership so you don’t miss out on all of our great discounts.
URL:https://klondikecruisers.ca/event/cruise-to-dairy-queen-month-of-may/2025-05-14/
LOCATION:Dairy Queen Grill & Chill\, 107 Range Rd\, Whitehorse\, yukon\, y1a3e5\, Canada
ATTACH;FMTTYPE=image/png:https://klondikecruisers.ca/wp-content/uploads/2022/04/DairyQueen.png
ORGANIZER;CN="Klondike Cruisers":MAILTO:klondikecruisers@gmail.com
END:VEVENT
BEGIN:VEVENT
DTSTART;TZID=America/Whitehorse:20250507T180000
DTEND;TZID=America/Whitehorse:20250507T190000
DTSTAMP:20260425T155028
CREATED:20250507T043819Z
LAST-MODIFIED:20250507T044354Z
UID:10000279-1746640800-1746644400@klondikecruisers.ca
SUMMARY:Cruise to Dairy Queen Month of May
DESCRIPTION:Join us at the DQ for tasty burgers and ice cream treats. Its also a great time to pick up a 2025 membership so you don’t miss out on all of our great discounts.
URL:https://klondikecruisers.ca/event/cruise-to-dairy-queen-month-of-may/2025-05-07/
LOCATION:Dairy Queen Grill & Chill\, 107 Range Rd\, Whitehorse\, yukon\, y1a3e5\, Canada
ATTACH;FMTTYPE=image/png:https://klondikecruisers.ca/wp-content/uploads/2022/04/DairyQueen.png
ORGANIZER;CN="Klondike Cruisers":MAILTO:klondikecruisers@gmail.com
END:VEVENT
BEGIN:VEVENT
DTSTART;TZID=America/Whitehorse:20240703T180000
DTEND;TZID=America/Whitehorse:20240703T193000
DTSTAMP:20260425T155028
CREATED:20240421T221643Z
LAST-MODIFIED:20240421T221643Z
UID:10000253-1720029600-1720035000@klondikecruisers.ca
SUMMARY:Weekly cruise to DQ
DESCRIPTION:We will be cruising the DQ every Wednesday this month except on July 10 \nCome pick up a cool treat and check out some equally cool cars \n6:00 p.m. to 7:30 p.m. \n 
URL:https://klondikecruisers.ca/event/weekly-cruise-to-dq/
LOCATION:Dairy Queen Grill & Chill\, 107 Range Rd\, Whitehorse\, yukon\, y1a3e5\, Canada
ATTACH;FMTTYPE=image/png:https://klondikecruisers.ca/wp-content/uploads/2022/04/DairyQueen.png
ORGANIZER;CN="Klondike Cruisers":MAILTO:klondikecruisers@gmail.com
END:VEVENT
BEGIN:VEVENT
DTSTART;TZID=America/Whitehorse:20240529T180000
DTEND;TZID=America/Whitehorse:20240529T193000
DTSTAMP:20260425T155028
CREATED:20240421T220436Z
LAST-MODIFIED:20240421T221050Z
UID:10000195-1717005600-1717011000@klondikecruisers.ca
SUMMARY:Weekly Cruise to Dairy Queen
DESCRIPTION:Come and join us at Dairy Queen every Wednesday for the month of May. Check out some cool cars while you grab a cool treat. \nMemberships will available for sale and there is also usually someone who can sell you a hat or a sticker. \nTell your friends about the many discounts available when you join the Klondike Cruisers. \n6:00 p.m. to 7:30p.m \n 
URL:https://klondikecruisers.ca/event/weekly-cruise-to-dairy-queen-3/2024-05-29/
LOCATION:Dairy Queen Grill & Chill\, 107 Range Rd\, Whitehorse\, yukon\, y1a3e5\, Canada
ATTACH;FMTTYPE=image/png:https://klondikecruisers.ca/wp-content/uploads/2022/04/DairyQueen.png
END:VEVENT
BEGIN:VEVENT
DTSTART;TZID=America/Whitehorse:20240522T180000
DTEND;TZID=America/Whitehorse:20240522T193000
DTSTAMP:20260425T155028
CREATED:20240421T220436Z
LAST-MODIFIED:20240421T221050Z
UID:10000194-1716400800-1716406200@klondikecruisers.ca
SUMMARY:Weekly Cruise to Dairy Queen
DESCRIPTION:Come and join us at Dairy Queen every Wednesday for the month of May. Check out some cool cars while you grab a cool treat. \nMemberships will available for sale and there is also usually someone who can sell you a hat or a sticker. \nTell your friends about the many discounts available when you join the Klondike Cruisers. \n6:00 p.m. to 7:30p.m \n 
URL:https://klondikecruisers.ca/event/weekly-cruise-to-dairy-queen-3/2024-05-22/
LOCATION:Dairy Queen Grill & Chill\, 107 Range Rd\, Whitehorse\, yukon\, y1a3e5\, Canada
ATTACH;FMTTYPE=image/png:https://klondikecruisers.ca/wp-content/uploads/2022/04/DairyQueen.png
END:VEVENT
BEGIN:VEVENT
DTSTART;TZID=America/Whitehorse:20240515T180000
DTEND;TZID=America/Whitehorse:20240515T193000
DTSTAMP:20260425T155028
CREATED:20240421T220436Z
LAST-MODIFIED:20240421T221050Z
UID:10000193-1715796000-1715801400@klondikecruisers.ca
SUMMARY:Weekly Cruise to Dairy Queen
DESCRIPTION:Come and join us at Dairy Queen every Wednesday for the month of May. Check out some cool cars while you grab a cool treat. \nMemberships will available for sale and there is also usually someone who can sell you a hat or a sticker. \nTell your friends about the many discounts available when you join the Klondike Cruisers. \n6:00 p.m. to 7:30p.m \n 
URL:https://klondikecruisers.ca/event/weekly-cruise-to-dairy-queen-3/2024-05-15/
LOCATION:Dairy Queen Grill & Chill\, 107 Range Rd\, Whitehorse\, yukon\, y1a3e5\, Canada
ATTACH;FMTTYPE=image/png:https://klondikecruisers.ca/wp-content/uploads/2022/04/DairyQueen.png
END:VEVENT
BEGIN:VEVENT
DTSTART;TZID=America/Whitehorse:20240508T180000
DTEND;TZID=America/Whitehorse:20240508T193000
DTSTAMP:20260425T155028
CREATED:20240421T220436Z
LAST-MODIFIED:20240421T221050Z
UID:10000192-1715191200-1715196600@klondikecruisers.ca
SUMMARY:Weekly Cruise to Dairy Queen
DESCRIPTION:Come and join us at Dairy Queen every Wednesday for the month of May. Check out some cool cars while you grab a cool treat. \nMemberships will available for sale and there is also usually someone who can sell you a hat or a sticker. \nTell your friends about the many discounts available when you join the Klondike Cruisers. \n6:00 p.m. to 7:30p.m \n 
URL:https://klondikecruisers.ca/event/weekly-cruise-to-dairy-queen-3/2024-05-08/
LOCATION:Dairy Queen Grill & Chill\, 107 Range Rd\, Whitehorse\, yukon\, y1a3e5\, Canada
ATTACH;FMTTYPE=image/png:https://klondikecruisers.ca/wp-content/uploads/2022/04/DairyQueen.png
END:VEVENT
BEGIN:VEVENT
DTSTART;TZID=America/Whitehorse:20240501T180000
DTEND;TZID=America/Whitehorse:20240501T193000
DTSTAMP:20260425T155028
CREATED:20240421T220436Z
LAST-MODIFIED:20240421T221050Z
UID:10000191-1714586400-1714591800@klondikecruisers.ca
SUMMARY:Weekly Cruise to Dairy Queen
DESCRIPTION:Come and join us at Dairy Queen every Wednesday for the month of May. Check out some cool cars while you grab a cool treat. \nMemberships will available for sale and there is also usually someone who can sell you a hat or a sticker. \nTell your friends about the many discounts available when you join the Klondike Cruisers. \n6:00 p.m. to 7:30p.m \n 
URL:https://klondikecruisers.ca/event/weekly-cruise-to-dairy-queen-3/2024-05-01/
LOCATION:Dairy Queen Grill & Chill\, 107 Range Rd\, Whitehorse\, yukon\, y1a3e5\, Canada
ATTACH;FMTTYPE=image/png:https://klondikecruisers.ca/wp-content/uploads/2022/04/DairyQueen.png
END:VEVENT
BEGIN:VEVENT
DTSTART;TZID=America/Whitehorse:20230920T180000
DTEND;TZID=America/Whitehorse:20230920T193000
DTSTAMP:20260425T155028
CREATED:20230409T024623Z
LAST-MODIFIED:20230409T025135Z
UID:10000167-1695232800-1695238200@klondikecruisers.ca
SUMMARY:Weekly cruise to Dairy Queen
DESCRIPTION:The month we are doing our weekly cruise to Diary Queen except for the last Wednesday. \n 
URL:https://klondikecruisers.ca/event/weekly-cruise-to-dairy-queen/2023-09-20/
LOCATION:Dairy Queen Grill & Chill\, 107 Range Rd\, Whitehorse\, yukon\, y1a3e5\, Canada
ATTACH;FMTTYPE=image/png:https://klondikecruisers.ca/wp-content/uploads/2022/04/DairyQueen.png
ORGANIZER;CN="Klondike Cruisers":MAILTO:klondikecruisers@gmail.com
END:VEVENT
BEGIN:VEVENT
DTSTART;TZID=America/Whitehorse:20230913T180000
DTEND;TZID=America/Whitehorse:20230913T193000
DTSTAMP:20260425T155029
CREATED:20230409T024623Z
LAST-MODIFIED:20230409T025135Z
UID:10000166-1694628000-1694633400@klondikecruisers.ca
SUMMARY:Weekly cruise to Dairy Queen
DESCRIPTION:The month we are doing our weekly cruise to Diary Queen except for the last Wednesday. \n 
URL:https://klondikecruisers.ca/event/weekly-cruise-to-dairy-queen/2023-09-13/
LOCATION:Dairy Queen Grill & Chill\, 107 Range Rd\, Whitehorse\, yukon\, y1a3e5\, Canada
ATTACH;FMTTYPE=image/png:https://klondikecruisers.ca/wp-content/uploads/2022/04/DairyQueen.png
ORGANIZER;CN="Klondike Cruisers":MAILTO:klondikecruisers@gmail.com
END:VEVENT
BEGIN:VEVENT
DTSTART;TZID=America/Whitehorse:20230906T180000
DTEND;TZID=America/Whitehorse:20230906T193000
DTSTAMP:20260425T155029
CREATED:20230409T024623Z
LAST-MODIFIED:20230409T025135Z
UID:10000165-1694023200-1694028600@klondikecruisers.ca
SUMMARY:Weekly cruise to Dairy Queen
DESCRIPTION:The month we are doing our weekly cruise to Diary Queen except for the last Wednesday. \n 
URL:https://klondikecruisers.ca/event/weekly-cruise-to-dairy-queen/2023-09-06/
LOCATION:Dairy Queen Grill & Chill\, 107 Range Rd\, Whitehorse\, yukon\, y1a3e5\, Canada
ATTACH;FMTTYPE=image/png:https://klondikecruisers.ca/wp-content/uploads/2022/04/DairyQueen.png
ORGANIZER;CN="Klondike Cruisers":MAILTO:klondikecruisers@gmail.com
END:VEVENT
BEGIN:VEVENT
DTSTART;TZID=America/Whitehorse:20230726T180000
DTEND;TZID=America/Whitehorse:20230726T193000
DTSTAMP:20260425T155029
CREATED:20230409T022729Z
LAST-MODIFIED:20230409T031739Z
UID:10000158-1690394400-1690399800@klondikecruisers.ca
SUMMARY:Weekly cruise to Dairy Queen for the rest of July
DESCRIPTION:Come on up (or down) and join us for a cool treat the the DQ. \n 
URL:https://klondikecruisers.ca/event/weekly-cruise-to-diary-queen-for-the-rest-of-july/2023-07-26/
LOCATION:Dairy Queen Grill & Chill\, 107 Range Rd\, Whitehorse\, yukon\, y1a3e5\, Canada
ATTACH;FMTTYPE=image/png:https://klondikecruisers.ca/wp-content/uploads/2022/04/DairyQueen.png
ORGANIZER;CN="Klondike Cruisers":MAILTO:klondikecruisers@gmail.com
END:VEVENT
BEGIN:VEVENT
DTSTART;TZID=America/Whitehorse:20230719T180000
DTEND;TZID=America/Whitehorse:20230719T193000
DTSTAMP:20260425T155029
CREATED:20230409T022729Z
LAST-MODIFIED:20230409T031739Z
UID:10000157-1689789600-1689795000@klondikecruisers.ca
SUMMARY:Weekly cruise to Dairy Queen for the rest of July
DESCRIPTION:Come on up (or down) and join us for a cool treat the the DQ. \n 
URL:https://klondikecruisers.ca/event/weekly-cruise-to-diary-queen-for-the-rest-of-july/2023-07-19/
LOCATION:Dairy Queen Grill & Chill\, 107 Range Rd\, Whitehorse\, yukon\, y1a3e5\, Canada
ATTACH;FMTTYPE=image/png:https://klondikecruisers.ca/wp-content/uploads/2022/04/DairyQueen.png
ORGANIZER;CN="Klondike Cruisers":MAILTO:klondikecruisers@gmail.com
END:VEVENT
BEGIN:VEVENT
DTSTART;TZID=America/Whitehorse:20230705T180000
DTEND;TZID=America/Whitehorse:20230705T193000
DTSTAMP:20260425T155029
CREATED:20230409T031707Z
LAST-MODIFIED:20230409T031707Z
UID:10000181-1688580000-1688585400@klondikecruisers.ca
SUMMARY:Weekly Cruise to Dairy Queen
DESCRIPTION:The weekly cruises will be at Dairy Queen for the month of July except July 12. \nCome and join us for a cool treat. \n 
URL:https://klondikecruisers.ca/event/weekly-cruise-to-dairy-queen-2/
LOCATION:Dairy Queen Grill & Chill\, 107 Range Rd\, Whitehorse\, yukon\, y1a3e5\, Canada
ATTACH;FMTTYPE=image/png:https://klondikecruisers.ca/wp-content/uploads/2022/04/DairyQueen.png
ORGANIZER;CN="Klondike Cruisers":MAILTO:klondikecruisers@gmail.com
END:VEVENT
BEGIN:VEVENT
DTSTART;TZID=America/Whitehorse:20230531T183000
DTEND;TZID=America/Whitehorse:20230531T193000
DTSTAMP:20260425T155029
CREATED:20230409T020807Z
LAST-MODIFIED:20230515T234225Z
UID:10000169-1685557800-1685561400@klondikecruisers.ca
SUMMARY:Weekly Cruise in at Dairy Queen for the Month of May
DESCRIPTION:Come and join us for our weekly cruise in at the Dairy Queen. If it’s got wheels\, we’re interested in seeing it! \n 
URL:https://klondikecruisers.ca/event/weekly-cruise-in-at-dairy-queen-for-the-month-of-may/2023-05-31/
LOCATION:Dairy Queen Grill & Chill\, 107 Range Rd\, Whitehorse\, yukon\, y1a3e5\, Canada
ATTACH;FMTTYPE=image/png:https://klondikecruisers.ca/wp-content/uploads/2022/04/DairyQueen.png
ORGANIZER;CN="Klondike Cruisers":MAILTO:klondikecruisers@gmail.com
END:VEVENT
BEGIN:VEVENT
DTSTART;TZID=America/Whitehorse:20230524T183000
DTEND;TZID=America/Whitehorse:20230524T193000
DTSTAMP:20260425T155029
CREATED:20230409T020807Z
LAST-MODIFIED:20230515T234225Z
UID:10000132-1684953000-1684956600@klondikecruisers.ca
SUMMARY:Weekly Cruise in at Dairy Queen for the Month of May
DESCRIPTION:Come and join us for our weekly cruise in at the Dairy Queen. If it’s got wheels\, we’re interested in seeing it! \n 
URL:https://klondikecruisers.ca/event/weekly-cruise-in-at-dairy-queen-for-the-month-of-may/2023-05-24/
LOCATION:Dairy Queen Grill & Chill\, 107 Range Rd\, Whitehorse\, yukon\, y1a3e5\, Canada
ATTACH;FMTTYPE=image/png:https://klondikecruisers.ca/wp-content/uploads/2022/04/DairyQueen.png
ORGANIZER;CN="Klondike Cruisers":MAILTO:klondikecruisers@gmail.com
END:VEVENT
BEGIN:VEVENT
DTSTART;TZID=America/Whitehorse:20230517T183000
DTEND;TZID=America/Whitehorse:20230517T193000
DTSTAMP:20260425T155029
CREATED:20230409T020807Z
LAST-MODIFIED:20230515T234225Z
UID:10000131-1684348200-1684351800@klondikecruisers.ca
SUMMARY:Weekly Cruise in at Dairy Queen for the Month of May
DESCRIPTION:Come and join us for our weekly cruise in at the Dairy Queen. If it’s got wheels\, we’re interested in seeing it! \n 
URL:https://klondikecruisers.ca/event/weekly-cruise-in-at-dairy-queen-for-the-month-of-may/2023-05-17/
LOCATION:Dairy Queen Grill & Chill\, 107 Range Rd\, Whitehorse\, yukon\, y1a3e5\, Canada
ATTACH;FMTTYPE=image/png:https://klondikecruisers.ca/wp-content/uploads/2022/04/DairyQueen.png
ORGANIZER;CN="Klondike Cruisers":MAILTO:klondikecruisers@gmail.com
END:VEVENT
BEGIN:VEVENT
DTSTART;TZID=America/Whitehorse:20230510T183000
DTEND;TZID=America/Whitehorse:20230510T193000
DTSTAMP:20260425T155029
CREATED:20230409T020807Z
LAST-MODIFIED:20230515T234225Z
UID:10000130-1683743400-1683747000@klondikecruisers.ca
SUMMARY:Weekly Cruise in at Dairy Queen for the Month of May
DESCRIPTION:Come and join us for our weekly cruise in at the Dairy Queen. If it’s got wheels\, we’re interested in seeing it! \n 
URL:https://klondikecruisers.ca/event/weekly-cruise-in-at-dairy-queen-for-the-month-of-may/2023-05-10/
LOCATION:Dairy Queen Grill & Chill\, 107 Range Rd\, Whitehorse\, yukon\, y1a3e5\, Canada
ATTACH;FMTTYPE=image/png:https://klondikecruisers.ca/wp-content/uploads/2022/04/DairyQueen.png
ORGANIZER;CN="Klondike Cruisers":MAILTO:klondikecruisers@gmail.com
END:VEVENT
BEGIN:VEVENT
DTSTART;TZID=America/Whitehorse:20230503T183000
DTEND;TZID=America/Whitehorse:20230503T193000
DTSTAMP:20260425T155029
CREATED:20230409T020807Z
LAST-MODIFIED:20230515T234225Z
UID:10000129-1683138600-1683142200@klondikecruisers.ca
SUMMARY:Weekly Cruise in at Dairy Queen for the Month of May
DESCRIPTION:Come and join us for our weekly cruise in at the Dairy Queen. If it’s got wheels\, we’re interested in seeing it! \n 
URL:https://klondikecruisers.ca/event/weekly-cruise-in-at-dairy-queen-for-the-month-of-may/2023-05-03/
LOCATION:Dairy Queen Grill & Chill\, 107 Range Rd\, Whitehorse\, yukon\, y1a3e5\, Canada
ATTACH;FMTTYPE=image/png:https://klondikecruisers.ca/wp-content/uploads/2022/04/DairyQueen.png
ORGANIZER;CN="Klondike Cruisers":MAILTO:klondikecruisers@gmail.com
END:VEVENT
BEGIN:VEVENT
DTSTART;TZID=America/Whitehorse:20220921T180000
DTEND;TZID=America/Whitehorse:20220921T193000
DTSTAMP:20260425T155029
CREATED:20220921T215403Z
LAST-MODIFIED:20220921T215607Z
UID:10000126-1663783200-1663788600@klondikecruisers.ca
SUMMARY:Weekly cruise in to Dairy Queen
DESCRIPTION:Come and join us for our weekly cruise in at the Dairy Queen. \n 
URL:https://klondikecruisers.ca/event/weekly-cruise-in-to-dairy-queen/
LOCATION:Dairy Queen Grill & Chill\, 107 Range Rd\, Whitehorse\, yukon\, y1a3e5\, Canada
ATTACH;FMTTYPE=image/png:https://klondikecruisers.ca/wp-content/uploads/2022/04/DairyQueen.png
END:VEVENT
BEGIN:VEVENT
DTSTART;TZID=America/Whitehorse:20220907T180000
DTEND;TZID=America/Whitehorse:20220907T190000
DTSTAMP:20260425T155029
CREATED:20220415T194043Z
LAST-MODIFIED:20220822T165335Z
UID:10000122-1662573600-1662577200@klondikecruisers.ca
SUMMARY:Weekly Cruise in at Dairy Queen
DESCRIPTION:Come and join us at Dairy Queen for our weekly cruise in.
URL:https://klondikecruisers.ca/event/weekly-cruise-in-16/
LOCATION:Dairy Queen Grill & Chill\, 107 Range Rd\, Whitehorse\, yukon\, y1a3e5\, Canada
ATTACH;FMTTYPE=image/png:https://klondikecruisers.ca/wp-content/uploads/2022/04/DairyQueen.png
ORGANIZER;CN="Klondike Cruisers":MAILTO:klondikecruisers@gmail.com
END:VEVENT
BEGIN:VEVENT
DTSTART;TZID=America/Whitehorse:20220824T183000
DTEND;TZID=America/Whitehorse:20220824T193000
DTSTAMP:20260425T155029
CREATED:20220415T193851Z
LAST-MODIFIED:20220822T165038Z
UID:10000121-1661365800-1661369400@klondikecruisers.ca
SUMMARY:Weekly Cruise in at Dairy Queen
DESCRIPTION:Come and join us for our weekly cruise in at the Dairy Queen. \n 
URL:https://klondikecruisers.ca/event/weekly-cruise-in-15/
LOCATION:Dairy Queen Grill & Chill\, 107 Range Rd\, Whitehorse\, yukon\, y1a3e5\, Canada
ATTACH;FMTTYPE=image/png:https://klondikecruisers.ca/wp-content/uploads/2022/04/DairyQueen.png
ORGANIZER;CN="Klondike Cruisers":MAILTO:klondikecruisers@gmail.com
END:VEVENT
BEGIN:VEVENT
DTSTART;TZID=America/Whitehorse:20220810T183000
DTEND;TZID=America/Whitehorse:20220810T193000
DTSTAMP:20260425T155029
CREATED:20220415T193009Z
LAST-MODIFIED:20220719T043024Z
UID:10000108-1660156200-1660159800@klondikecruisers.ca
SUMMARY:Weekly Cruise in at Dairy Queen
DESCRIPTION:Join us for our weekly meet up at Dairy Queen \n6:30 to 7:30
URL:https://klondikecruisers.ca/event/weekly-cruise-in-13/
LOCATION:Dairy Queen Grill & Chill\, 107 Range Rd\, Whitehorse\, yukon\, y1a3e5\, Canada
ATTACH;FMTTYPE=image/png:https://klondikecruisers.ca/wp-content/uploads/2022/04/DairyQueen.png
ORGANIZER;CN="Klondike Cruisers":MAILTO:klondikecruisers@gmail.com
END:VEVENT
END:VCALENDAR