BEGIN:VCALENDAR
VERSION:2.0
PRODID:-//Klondike Cruisers - ECPv6.15.20//NONSGML v1.0//EN
CALSCALE:GREGORIAN
METHOD:PUBLISH
X-WR-CALNAME:Klondike Cruisers
X-ORIGINAL-URL:https://klondikecruisers.ca
X-WR-CALDESC:Events for Klondike Cruisers
REFRESH-INTERVAL;VALUE=DURATION:PT1H
X-Robots-Tag:noindex
X-PUBLISHED-TTL:PT1H
BEGIN:VTIMEZONE
TZID:America/Whitehorse
BEGIN:STANDARD
TZOFFSETFROM:-0700
TZOFFSETTO:-0700
TZNAME:MST
DTSTART:20220101T000000
END:STANDARD
END:VTIMEZONE
BEGIN:VEVENT
DTSTART;TZID=America/Whitehorse:20250924T180000
DTEND;TZID=America/Whitehorse:20250924T190000
DTSTAMP:20260425T123617
CREATED:20250922T225603Z
LAST-MODIFIED:20250922T225603Z
UID:10000447-1758736800-1758740400@klondikecruisers.ca
SUMMARY:Year end pitstop at Kopper King
DESCRIPTION:This is our last event for 2025. Meet for a casual dinner at Kopper King
URL:https://klondikecruisers.ca/event/year-end-pitstop-at-kopper-king/
LOCATION:Kopper King Neighbours pub\, 91888 Alaska Hwy YT Y1A 5G5\, Whitehorse\, YT\, y1a 5g5\, Canada
ATTACH;FMTTYPE=image/jpeg:https://klondikecruisers.ca/wp-content/uploads/2025/08/KK.jpg
ORGANIZER;CN="Klondike Cruisers":MAILTO:klondikecruisers@gmail.com
END:VEVENT
BEGIN:VEVENT
DTSTART;TZID=America/Whitehorse:20240925T180000
DTEND;TZID=America/Whitehorse:20240925T193000
DTSTAMP:20260425T123617
CREATED:20240421T223740Z
LAST-MODIFIED:20240421T223740Z
UID:10000265-1727287200-1727292600@klondikecruisers.ca
SUMMARY:Year end pit stop
DESCRIPTION:This is the last meet of the year for the Klondike Cruisers \nLocations TBD
URL:https://klondikecruisers.ca/event/year-end-pit-stop-2/
LOCATION:Kopper King Neighbours pub\, 91888 Alaska Hwy YT Y1A 5G5\, Whitehorse\, YT\, y1a 5g5\, Canada
ATTACH;FMTTYPE=image/jpeg:https://klondikecruisers.ca/wp-content/uploads/2022/09/308506283_3961699913954314_6436356146683803535_n.jpg
ORGANIZER;CN="Klondike Cruisers":MAILTO:klondikecruisers@gmail.com
END:VEVENT
BEGIN:VEVENT
DTSTART;TZID=America/Whitehorse:20230927T180000
DTEND;TZID=America/Whitehorse:20230927T193000
DTSTAMP:20260425T123617
CREATED:20230409T025517Z
LAST-MODIFIED:20230409T025517Z
UID:10000168-1695837600-1695843000@klondikecruisers.ca
SUMMARY:Year end meet pit stop at Kopper King - Neighbour's Pub
DESCRIPTION:Last year we did a year end meet up at Kopper King and it was quite popular so we are planning it again for this year. Great pub food.
URL:https://klondikecruisers.ca/event/year-end-meet-pit-stop-at-kopper-king-neighbours-pub/
LOCATION:Kopper King Neighbours pub\, 91888 Alaska Hwy YT Y1A 5G5\, Whitehorse\, YT\, y1a 5g5\, Canada
END:VEVENT
END:VCALENDAR