BEGIN:VCALENDAR
VERSION:2.0
PRODID:-//Klondike Cruisers - ECPv6.15.20//NONSGML v1.0//EN
CALSCALE:GREGORIAN
METHOD:PUBLISH
X-ORIGINAL-URL:https://klondikecruisers.ca
X-WR-CALDESC:Events for Klondike Cruisers
REFRESH-INTERVAL;VALUE=DURATION:PT1H
X-Robots-Tag:noindex
X-PUBLISHED-TTL:PT1H
BEGIN:VTIMEZONE
TZID:America/Whitehorse
BEGIN:DAYLIGHT
TZOFFSETFROM:-0800
TZOFFSETTO:-0700
TZNAME:PDT
DTSTART:20180311T100000
END:DAYLIGHT
BEGIN:STANDARD
TZOFFSETFROM:-0700
TZOFFSETTO:-0800
TZNAME:PST
DTSTART:20181104T090000
END:STANDARD
BEGIN:DAYLIGHT
TZOFFSETFROM:-0800
TZOFFSETTO:-0700
TZNAME:PDT
DTSTART:20190310T100000
END:DAYLIGHT
BEGIN:STANDARD
TZOFFSETFROM:-0700
TZOFFSETTO:-0800
TZNAME:PST
DTSTART:20191103T090000
END:STANDARD
BEGIN:DAYLIGHT
TZOFFSETFROM:-0800
TZOFFSETTO:-0700
TZNAME:PDT
DTSTART:20200308T100000
END:DAYLIGHT
BEGIN:STANDARD
TZOFFSETFROM:-0700
TZOFFSETTO:-0700
TZNAME:MST
DTSTART:20201101T070000
END:STANDARD
END:VTIMEZONE
BEGIN:VEVENT
DTSTART;TZID=America/Whitehorse:20250906T100000
DTEND;TZID=America/Whitehorse:20250906T120000
DTSTAMP:20260425T140920
CREATED:20250805T025155Z
LAST-MODIFIED:20250902T022008Z
UID:10000444-1757152800-1757160000@klondikecruisers.ca
SUMMARY:Cars and coffee
DESCRIPTION:NOTE: this was moved to Sept 6 in consideration of the Haines Junction Show and Shine on Sept 13. \nIts the last cars and coffee for the season. Its also a swap meet so bring your parts down to the Territorial Auto parking lot. Talks cars\, drink coffee\, swap parts what else do you need?
URL:https://klondikecruisers.ca/event/cars-and-coffee-19/
LOCATION:Territorial Auto Parts\, 9004 Quartz Road\, Whitehorse\, YT\, Y1A 2Z5\, Canada
ATTACH;FMTTYPE=image/png:https://klondikecruisers.ca/wp-content/uploads/2018/04/Cars-and-Coffee.png
ORGANIZER;CN="Klondike Cruisers":MAILTO:klondikecruisers@gmail.com
END:VEVENT
BEGIN:VEVENT
DTSTART;TZID=America/Whitehorse:20250809T100000
DTEND;TZID=America/Whitehorse:20250809T110000
DTSTAMP:20260425T140920
CREATED:20250507T044237Z
LAST-MODIFIED:20250528T172738Z
UID:10000338-1754733600-1754737200@klondikecruisers.ca
SUMMARY:Cars and Coffee 2nd Saturday of every month
DESCRIPTION:Its time for Cars and Coffee at the Territorial Auto parking lot. Every cars and coffee this year is also a swap meet so bring down some parts because you never know who may need em.
URL:https://klondikecruisers.ca/event/cars-and-coffee-every-2nd-saturday/2025-08-09/
LOCATION:Territorial Auto Parts\, 9004 Quartz Road\, Whitehorse\, YT\, Y1A 2Z5\, Canada
ATTACH;FMTTYPE=image/png:https://klondikecruisers.ca/wp-content/uploads/2018/04/Cars-and-Coffee.png
ORGANIZER;CN="Klondike Cruisers":MAILTO:klondikecruisers@gmail.com
END:VEVENT
BEGIN:VEVENT
DTSTART;TZID=America/Whitehorse:20250712T100000
DTEND;TZID=America/Whitehorse:20250712T110000
DTSTAMP:20260425T140920
CREATED:20250507T044237Z
LAST-MODIFIED:20250528T172738Z
UID:10000337-1752314400-1752318000@klondikecruisers.ca
SUMMARY:Cars and Coffee 2nd Saturday of every month
DESCRIPTION:Its time for Cars and Coffee at the Territorial Auto parking lot. Every cars and coffee this year is also a swap meet so bring down some parts because you never know who may need em.
URL:https://klondikecruisers.ca/event/cars-and-coffee-every-2nd-saturday/2025-07-12/
LOCATION:Territorial Auto Parts\, 9004 Quartz Road\, Whitehorse\, YT\, Y1A 2Z5\, Canada
ATTACH;FMTTYPE=image/png:https://klondikecruisers.ca/wp-content/uploads/2018/04/Cars-and-Coffee.png
ORGANIZER;CN="Klondike Cruisers":MAILTO:klondikecruisers@gmail.com
END:VEVENT
BEGIN:VEVENT
DTSTART;TZID=America/Whitehorse:20250614T100000
DTEND;TZID=America/Whitehorse:20250614T110000
DTSTAMP:20260425T140920
CREATED:20250507T044237Z
LAST-MODIFIED:20250528T172738Z
UID:10000336-1749895200-1749898800@klondikecruisers.ca
SUMMARY:Cars and Coffee 2nd Saturday of every month
DESCRIPTION:Its time for Cars and Coffee at the Territorial Auto parking lot. Every cars and coffee this year is also a swap meet so bring down some parts because you never know who may need em.
URL:https://klondikecruisers.ca/event/cars-and-coffee-every-2nd-saturday/2025-06-14/
LOCATION:Territorial Auto Parts\, 9004 Quartz Road\, Whitehorse\, YT\, Y1A 2Z5\, Canada
ATTACH;FMTTYPE=image/png:https://klondikecruisers.ca/wp-content/uploads/2018/04/Cars-and-Coffee.png
ORGANIZER;CN="Klondike Cruisers":MAILTO:klondikecruisers@gmail.com
END:VEVENT
BEGIN:VEVENT
DTSTART;TZID=America/Whitehorse:20250510T100000
DTEND;TZID=America/Whitehorse:20250510T110000
DTSTAMP:20260425T140920
CREATED:20250507T044237Z
LAST-MODIFIED:20250528T172738Z
UID:10000335-1746871200-1746874800@klondikecruisers.ca
SUMMARY:Cars and Coffee 2nd Saturday of every month
DESCRIPTION:Its time for Cars and Coffee at the Territorial Auto parking lot. Every cars and coffee this year is also a swap meet so bring down some parts because you never know who may need em.
URL:https://klondikecruisers.ca/event/cars-and-coffee-every-2nd-saturday/2025-05-10/
LOCATION:Territorial Auto Parts\, 9004 Quartz Road\, Whitehorse\, YT\, Y1A 2Z5\, Canada
ATTACH;FMTTYPE=image/png:https://klondikecruisers.ca/wp-content/uploads/2018/04/Cars-and-Coffee.png
ORGANIZER;CN="Klondike Cruisers":MAILTO:klondikecruisers@gmail.com
END:VEVENT
BEGIN:VEVENT
DTSTART;TZID=America/Whitehorse:20240914T100000
DTEND;TZID=America/Whitehorse:20240914T110000
DTSTAMP:20260425T140920
CREATED:20240421T225900Z
LAST-MODIFIED:20240421T225900Z
UID:10000274-1726308000-1726311600@klondikecruisers.ca
SUMMARY:Cars and Coffee at Territorial Auto
DESCRIPTION:Join us for coffee and car talk\, the 2nd Saturday of every month until September. \ncoffee will be provided \n10:00 a.m. to 11:00 a.m
URL:https://klondikecruisers.ca/event/cars-and-coffee-at-territorial-auto/2024-09-14/
LOCATION:Territorial Auto Parts\, 9004 Quartz Road\, Whitehorse\, YT\, Y1A 2Z5\, Canada
ATTACH;FMTTYPE=image/png:https://klondikecruisers.ca/wp-content/uploads/2018/04/Cars-and-Coffee.png
ORGANIZER;CN="Klondike Cruisers":MAILTO:klondikecruisers@gmail.com
END:VEVENT
BEGIN:VEVENT
DTSTART;TZID=America/Whitehorse:20240810T100000
DTEND;TZID=America/Whitehorse:20240810T110000
DTSTAMP:20260425T140920
CREATED:20240421T225900Z
LAST-MODIFIED:20240421T225900Z
UID:10000273-1723284000-1723287600@klondikecruisers.ca
SUMMARY:Cars and Coffee at Territorial Auto
DESCRIPTION:Join us for coffee and car talk\, the 2nd Saturday of every month until September. \ncoffee will be provided \n10:00 a.m. to 11:00 a.m
URL:https://klondikecruisers.ca/event/cars-and-coffee-at-territorial-auto/2024-08-10/
LOCATION:Territorial Auto Parts\, 9004 Quartz Road\, Whitehorse\, YT\, Y1A 2Z5\, Canada
ATTACH;FMTTYPE=image/png:https://klondikecruisers.ca/wp-content/uploads/2018/04/Cars-and-Coffee.png
ORGANIZER;CN="Klondike Cruisers":MAILTO:klondikecruisers@gmail.com
END:VEVENT
BEGIN:VEVENT
DTSTART;TZID=America/Whitehorse:20240713T100000
DTEND;TZID=America/Whitehorse:20240713T110000
DTSTAMP:20260425T140920
CREATED:20240421T225900Z
LAST-MODIFIED:20240421T225900Z
UID:10000272-1720864800-1720868400@klondikecruisers.ca
SUMMARY:Cars and Coffee at Territorial Auto
DESCRIPTION:Join us for coffee and car talk\, the 2nd Saturday of every month until September. \ncoffee will be provided \n10:00 a.m. to 11:00 a.m
URL:https://klondikecruisers.ca/event/cars-and-coffee-at-territorial-auto/2024-07-13/
LOCATION:Territorial Auto Parts\, 9004 Quartz Road\, Whitehorse\, YT\, Y1A 2Z5\, Canada
ATTACH;FMTTYPE=image/png:https://klondikecruisers.ca/wp-content/uploads/2018/04/Cars-and-Coffee.png
ORGANIZER;CN="Klondike Cruisers":MAILTO:klondikecruisers@gmail.com
END:VEVENT
BEGIN:VEVENT
DTSTART;TZID=America/Whitehorse:20240608T100000
DTEND;TZID=America/Whitehorse:20240608T110000
DTSTAMP:20260425T140921
CREATED:20240421T225900Z
LAST-MODIFIED:20240421T225900Z
UID:10000271-1717840800-1717844400@klondikecruisers.ca
SUMMARY:Cars and Coffee at Territorial Auto
DESCRIPTION:Join us for coffee and car talk\, the 2nd Saturday of every month until September. \ncoffee will be provided \n10:00 a.m. to 11:00 a.m
URL:https://klondikecruisers.ca/event/cars-and-coffee-at-territorial-auto/2024-06-08/
LOCATION:Territorial Auto Parts\, 9004 Quartz Road\, Whitehorse\, YT\, Y1A 2Z5\, Canada
ATTACH;FMTTYPE=image/png:https://klondikecruisers.ca/wp-content/uploads/2018/04/Cars-and-Coffee.png
ORGANIZER;CN="Klondike Cruisers":MAILTO:klondikecruisers@gmail.com
END:VEVENT
BEGIN:VEVENT
DTSTART;TZID=America/Whitehorse:20240511T100000
DTEND;TZID=America/Whitehorse:20240511T110000
DTSTAMP:20260425T140921
CREATED:20240421T225900Z
LAST-MODIFIED:20240421T225900Z
UID:10000270-1715421600-1715425200@klondikecruisers.ca
SUMMARY:Cars and Coffee at Territorial Auto
DESCRIPTION:Join us for coffee and car talk\, the 2nd Saturday of every month until September. \ncoffee will be provided \n10:00 a.m. to 11:00 a.m
URL:https://klondikecruisers.ca/event/cars-and-coffee-at-territorial-auto/2024-05-11/
LOCATION:Territorial Auto Parts\, 9004 Quartz Road\, Whitehorse\, YT\, Y1A 2Z5\, Canada
ATTACH;FMTTYPE=image/png:https://klondikecruisers.ca/wp-content/uploads/2018/04/Cars-and-Coffee.png
ORGANIZER;CN="Klondike Cruisers":MAILTO:klondikecruisers@gmail.com
END:VEVENT
BEGIN:VEVENT
DTSTART;TZID=America/Whitehorse:20230909T100000
DTEND;TZID=America/Whitehorse:20230909T110000
DTSTAMP:20260425T140921
CREATED:20230409T021252Z
LAST-MODIFIED:20230409T021439Z
UID:10000137-1694253600-1694257200@klondikecruisers.ca
SUMMARY:Cars and Coffee
DESCRIPTION:Meet up with some like minded petrol heads at Territorial Auto Parts to talk cars while you enjoy a cup of  java. \nYou bring the cars\,  or anything on wheels really\, and the Klondike Cruisers will bring the coffee \n 
URL:https://klondikecruisers.ca/event/cars-and-coffee-18/2023-09-09/
LOCATION:Territorial Auto Parts\, 9004 Quartz Road\, Whitehorse\, YT\, Y1A 2Z5\, Canada
ATTACH;FMTTYPE=image/png:https://klondikecruisers.ca/wp-content/uploads/2018/04/Cars-and-Coffee.png
ORGANIZER;CN="Klondike Cruisers":MAILTO:klondikecruisers@gmail.com
END:VEVENT
BEGIN:VEVENT
DTSTART;TZID=America/Whitehorse:20230812T100000
DTEND;TZID=America/Whitehorse:20230812T110000
DTSTAMP:20260425T140921
CREATED:20230409T021252Z
LAST-MODIFIED:20230409T021439Z
UID:10000136-1691834400-1691838000@klondikecruisers.ca
SUMMARY:Cars and Coffee
DESCRIPTION:Meet up with some like minded petrol heads at Territorial Auto Parts to talk cars while you enjoy a cup of  java. \nYou bring the cars\,  or anything on wheels really\, and the Klondike Cruisers will bring the coffee \n 
URL:https://klondikecruisers.ca/event/cars-and-coffee-18/2023-08-12/
LOCATION:Territorial Auto Parts\, 9004 Quartz Road\, Whitehorse\, YT\, Y1A 2Z5\, Canada
ATTACH;FMTTYPE=image/png:https://klondikecruisers.ca/wp-content/uploads/2018/04/Cars-and-Coffee.png
ORGANIZER;CN="Klondike Cruisers":MAILTO:klondikecruisers@gmail.com
END:VEVENT
BEGIN:VEVENT
DTSTART;TZID=America/Whitehorse:20230708T100000
DTEND;TZID=America/Whitehorse:20230708T110000
DTSTAMP:20260425T140921
CREATED:20230409T021252Z
LAST-MODIFIED:20230409T021439Z
UID:10000135-1688810400-1688814000@klondikecruisers.ca
SUMMARY:Cars and Coffee
DESCRIPTION:Meet up with some like minded petrol heads at Territorial Auto Parts to talk cars while you enjoy a cup of  java. \nYou bring the cars\,  or anything on wheels really\, and the Klondike Cruisers will bring the coffee \n 
URL:https://klondikecruisers.ca/event/cars-and-coffee-18/2023-07-08/
LOCATION:Territorial Auto Parts\, 9004 Quartz Road\, Whitehorse\, YT\, Y1A 2Z5\, Canada
ATTACH;FMTTYPE=image/png:https://klondikecruisers.ca/wp-content/uploads/2018/04/Cars-and-Coffee.png
ORGANIZER;CN="Klondike Cruisers":MAILTO:klondikecruisers@gmail.com
END:VEVENT
BEGIN:VEVENT
DTSTART;TZID=America/Whitehorse:20230610T100000
DTEND;TZID=America/Whitehorse:20230610T110000
DTSTAMP:20260425T140921
CREATED:20230409T021252Z
LAST-MODIFIED:20230409T021439Z
UID:10000134-1686391200-1686394800@klondikecruisers.ca
SUMMARY:Cars and Coffee
DESCRIPTION:Meet up with some like minded petrol heads at Territorial Auto Parts to talk cars while you enjoy a cup of  java. \nYou bring the cars\,  or anything on wheels really\, and the Klondike Cruisers will bring the coffee \n 
URL:https://klondikecruisers.ca/event/cars-and-coffee-18/2023-06-10/
LOCATION:Territorial Auto Parts\, 9004 Quartz Road\, Whitehorse\, YT\, Y1A 2Z5\, Canada
ATTACH;FMTTYPE=image/png:https://klondikecruisers.ca/wp-content/uploads/2018/04/Cars-and-Coffee.png
ORGANIZER;CN="Klondike Cruisers":MAILTO:klondikecruisers@gmail.com
END:VEVENT
BEGIN:VEVENT
DTSTART;TZID=America/Whitehorse:20230513T100000
DTEND;TZID=America/Whitehorse:20230513T110000
DTSTAMP:20260425T140921
CREATED:20230409T021252Z
LAST-MODIFIED:20230409T021439Z
UID:10000133-1683972000-1683975600@klondikecruisers.ca
SUMMARY:Cars and Coffee
DESCRIPTION:Meet up with some like minded petrol heads at Territorial Auto Parts to talk cars while you enjoy a cup of  java. \nYou bring the cars\,  or anything on wheels really\, and the Klondike Cruisers will bring the coffee \n 
URL:https://klondikecruisers.ca/event/cars-and-coffee-18/2023-05-13/
LOCATION:Territorial Auto Parts\, 9004 Quartz Road\, Whitehorse\, YT\, Y1A 2Z5\, Canada
ATTACH;FMTTYPE=image/png:https://klondikecruisers.ca/wp-content/uploads/2018/04/Cars-and-Coffee.png
ORGANIZER;CN="Klondike Cruisers":MAILTO:klondikecruisers@gmail.com
END:VEVENT
BEGIN:VEVENT
DTSTART;TZID=America/Whitehorse:20220910T100000
DTEND;TZID=America/Whitehorse:20220910T110000
DTSTAMP:20260425T140921
CREATED:20220415T192022Z
LAST-MODIFIED:20220909T173929Z
UID:10000116-1662804000-1662807600@klondikecruisers.ca
SUMMARY:Cars and Coffee at Territorial Auto Parts
DESCRIPTION:Grab a thermos of coffee and head on down for our Monthly Cars and Coffee \n 
URL:https://klondikecruisers.ca/event/cars-and-coffee-17/
LOCATION:Territorial Auto Parts\, 9004 Quartz Road\, Whitehorse\, YT\, Y1A 2Z5\, Canada
ATTACH;FMTTYPE=image/png:https://klondikecruisers.ca/wp-content/uploads/2018/04/Cars-and-Coffee.png
ORGANIZER;CN="Klondike Cruisers":MAILTO:klondikecruisers@gmail.com
END:VEVENT
BEGIN:VEVENT
DTSTART;TZID=America/Whitehorse:20220813T100000
DTEND;TZID=America/Whitehorse:20220813T110000
DTSTAMP:20260425T140921
CREATED:20220413T234924Z
LAST-MODIFIED:20220604T190114Z
UID:10000100-1660384800-1660388400@klondikecruisers.ca
SUMMARY:Cars and Coffee
DESCRIPTION:Meet up with some like minded petrol heads and talk cars while you enjoy a cup of  java
URL:https://klondikecruisers.ca/event/cars-and-coffee-16/
LOCATION:Territorial Auto Parts\, 9004 Quartz Road\, Whitehorse\, YT\, Y1A 2Z5\, Canada
ATTACH;FMTTYPE=image/png:https://klondikecruisers.ca/wp-content/uploads/2018/04/Cars-and-Coffee.png
ORGANIZER;CN="Klondike Cruisers":MAILTO:klondikecruisers@gmail.com
END:VEVENT
BEGIN:VEVENT
DTSTART;TZID=America/Whitehorse:20220709T100000
DTEND;TZID=America/Whitehorse:20220709T110000
DTSTAMP:20260425T140921
CREATED:20220413T234741Z
LAST-MODIFIED:20220604T190135Z
UID:10000099-1657360800-1657364400@klondikecruisers.ca
SUMMARY:Cars and Coffee
DESCRIPTION:Every second Saturday we meet at Territorial Auto Parts to drink coffee and talk cars. Stop on by.
URL:https://klondikecruisers.ca/event/cars-and-coffee-15/
LOCATION:Territorial Auto Parts\, 9004 Quartz Road\, Whitehorse\, YT\, Y1A 2Z5\, Canada
ATTACH;FMTTYPE=image/png:https://klondikecruisers.ca/wp-content/uploads/2018/04/Cars-and-Coffee.png
ORGANIZER;CN="Klondike Cruisers":MAILTO:klondikecruisers@gmail.com
END:VEVENT
BEGIN:VEVENT
DTSTART;TZID=America/Whitehorse:20220611T100000
DTEND;TZID=America/Whitehorse:20220611T110000
DTSTAMP:20260425T140921
CREATED:20220413T234613Z
LAST-MODIFIED:20220604T190210Z
UID:10000098-1654941600-1654945200@klondikecruisers.ca
SUMMARY:Cars and Coffee
DESCRIPTION:Grab a cup of your favorite (non alcoholic) brew and come on down to Territorial Auto Parts to talk cars
URL:https://klondikecruisers.ca/event/cars-and-coffee-14/
LOCATION:Territorial Auto Parts\, 9004 Quartz Road\, Whitehorse\, YT\, Y1A 2Z5\, Canada
ATTACH;FMTTYPE=image/png:https://klondikecruisers.ca/wp-content/uploads/2018/04/Cars-and-Coffee.png
ORGANIZER;CN="Klondike Cruisers":MAILTO:klondikecruisers@gmail.com
END:VEVENT
BEGIN:VEVENT
DTSTART;TZID=America/Whitehorse:20220514T100000
DTEND;TZID=America/Whitehorse:20220514T110000
DTSTAMP:20260425T140921
CREATED:20220413T234509Z
LAST-MODIFIED:20220413T234509Z
UID:10000097-1652522400-1652526000@klondikecruisers.ca
SUMMARY:Cars and Coffee
DESCRIPTION:Grab a cup of coffee and come on down to Territorial Auto Parts to check out some cars with all the other gearheads \n 
URL:https://klondikecruisers.ca/event/cars-and-coffee-13/
LOCATION:Territorial Auto Parts\, 9004 Quartz Road\, Whitehorse\, YT\, Y1A 2Z5\, Canada
ORGANIZER;CN="Klondike Cruisers":MAILTO:klondikecruisers@gmail.com
END:VEVENT
BEGIN:VEVENT
DTSTART;TZID=America/Whitehorse:20210814T100000
DTEND;TZID=America/Whitehorse:20210814T110000
DTSTAMP:20260425T140921
CREATED:20210609T225704Z
LAST-MODIFIED:20210609T230909Z
UID:10000072-1628935200-1628938800@klondikecruisers.ca
SUMMARY:Cars n' Coffee
DESCRIPTION:It’s a more casual cars n coffee this time. Well its actually the same cars and coffee as all the others. Come on down with a cup of coffee and check out all the cool cars. \n 
URL:https://klondikecruisers.ca/event/cars-n-coffee/
LOCATION:Territorial Auto Parts\, 9004 Quartz Road\, Whitehorse\, YT\, Y1A 2Z5\, Canada
ATTACH;FMTTYPE=image/png:https://klondikecruisers.ca/wp-content/uploads/2018/04/Cars-and-Coffee.png
END:VEVENT
BEGIN:VEVENT
DTSTART;TZID=America/Whitehorse:20210710T100000
DTEND;TZID=America/Whitehorse:20210710T110000
DTSTAMP:20260425T140921
CREATED:20210609T225437Z
LAST-MODIFIED:20210609T225437Z
UID:10000071-1625911200-1625914800@klondikecruisers.ca
SUMMARY:Cars and Coffee
DESCRIPTION:Grab a cup of coffee and come on down to Territorial Auto Parts to check out some cars \n 
URL:https://klondikecruisers.ca/event/cars-and-coffee-12/
LOCATION:Territorial Auto Parts\, 9004 Quartz Road\, Whitehorse\, YT\, Y1A 2Z5\, Canada
END:VEVENT
BEGIN:VEVENT
DTSTART;TZID=America/Whitehorse:20210612T100000
DTEND;TZID=America/Whitehorse:20210612T230000
DTSTAMP:20260425T140921
CREATED:20210609T224019Z
LAST-MODIFIED:20210609T224019Z
UID:10000068-1623492000-1623538800@klondikecruisers.ca
SUMMARY:Cars and Coffee
DESCRIPTION:Grab a cup of coffee and come on down to Territorial Auto Parts to check out some cars
URL:https://klondikecruisers.ca/event/cars-and-coffee-11/
LOCATION:Territorial Auto Parts\, 9004 Quartz Road\, Whitehorse\, YT\, Y1A 2Z5\, Canada
END:VEVENT
BEGIN:VEVENT
DTSTART;TZID=America/Whitehorse:20210612T090000
DTEND;TZID=America/Whitehorse:20210612T100000
DTSTAMP:20260425T140921
CREATED:20210609T223835Z
LAST-MODIFIED:20210609T223858Z
UID:10000067-1623488400-1623492000@klondikecruisers.ca
SUMMARY:Swap meet
DESCRIPTION:Territorial Auto Parts parking lot \nswap meet at 9:00 a.m – bring whatever you want to sell that’s car related. \n 
URL:https://klondikecruisers.ca/event/swap-meet-cars-n-coffee/
LOCATION:Territorial Auto Parts\, 9004 Quartz Road\, Whitehorse\, YT\, Y1A 2Z5\, Canada
END:VEVENT
BEGIN:VEVENT
DTSTART;TZID=America/Whitehorse:20200912T100000
DTEND;TZID=America/Whitehorse:20200912T113000
DTSTAMP:20260425T140921
CREATED:20200303T165104Z
LAST-MODIFIED:20200303T165104Z
UID:10000054-1599904800-1599910200@klondikecruisers.ca
SUMMARY:CARS and Coffee
DESCRIPTION:
URL:https://klondikecruisers.ca/event/cars-and-coffee-10/
LOCATION:Territorial Auto Parts\, 9004 Quartz Road\, Whitehorse\, YT\, Y1A 2Z5\, Canada
END:VEVENT
BEGIN:VEVENT
DTSTART;TZID=America/Whitehorse:20200808T100000
DTEND;TZID=America/Whitehorse:20200808T113000
DTSTAMP:20260425T140921
CREATED:20200303T164215Z
LAST-MODIFIED:20200303T164215Z
UID:10000055-1596880800-1596886200@klondikecruisers.ca
SUMMARY:CARS and Coffee
DESCRIPTION:
URL:https://klondikecruisers.ca/event/cars-and-coffee-9/
LOCATION:Territorial Auto Parts\, 9004 Quartz Road\, Whitehorse\, YT\, Y1A 2Z5\, Canada
END:VEVENT
BEGIN:VEVENT
DTSTART;TZID=America/Whitehorse:20200711T100000
DTEND;TZID=America/Whitehorse:20200711T113000
DTSTAMP:20260425T140921
CREATED:20200303T164110Z
LAST-MODIFIED:20200303T164110Z
UID:10000056-1594461600-1594467000@klondikecruisers.ca
SUMMARY:CARS and Coffee
DESCRIPTION:
URL:https://klondikecruisers.ca/event/cars-and-coffee-8/
LOCATION:Territorial Auto Parts\, 9004 Quartz Road\, Whitehorse\, YT\, Y1A 2Z5\, Canada
END:VEVENT
BEGIN:VEVENT
DTSTART;TZID=America/Whitehorse:20200613T100000
DTEND;TZID=America/Whitehorse:20200613T113000
DTSTAMP:20260425T140921
CREATED:20200303T164010Z
LAST-MODIFIED:20200303T164010Z
UID:10000057-1592042400-1592047800@klondikecruisers.ca
SUMMARY:CARS and Coffee
DESCRIPTION:
URL:https://klondikecruisers.ca/event/cars-and-coffee-7/
LOCATION:Territorial Auto Parts\, 9004 Quartz Road\, Whitehorse\, YT\, Y1A 2Z5\, Canada
END:VEVENT
BEGIN:VEVENT
DTSTART;TZID=America/Whitehorse:20200509T100000
DTEND;TZID=America/Whitehorse:20200509T113000
DTSTAMP:20260425T140921
CREATED:20200303T163910Z
LAST-MODIFIED:20200303T163910Z
UID:10000058-1589018400-1589023800@klondikecruisers.ca
SUMMARY:CARS and Coffee
DESCRIPTION:
URL:https://klondikecruisers.ca/event/cars-and-coffee-6/
LOCATION:Territorial Auto Parts\, 9004 Quartz Road\, Whitehorse\, YT\, Y1A 2Z5\, Canada
END:VEVENT
BEGIN:VEVENT
DTSTART;TZID=America/Whitehorse:20190914T100000
DTEND;TZID=America/Whitehorse:20190914T120000
DTSTAMP:20260425T140921
CREATED:20190303T204011Z
LAST-MODIFIED:20190317T051110Z
UID:10000025-1568455200-1568462400@klondikecruisers.ca
SUMMARY:Cars and Coffee
DESCRIPTION:
URL:https://klondikecruisers.ca/event/cars-and-coffee-5/
LOCATION:Territorial Auto Parts\, 9004 Quartz Road\, Whitehorse\, YT\, Y1A 2Z5\, Canada
END:VEVENT
END:VCALENDAR