BEGIN:VCALENDAR
VERSION:2.0
PRODID:-//Klondike Cruisers - ECPv6.15.20//NONSGML v1.0//EN
CALSCALE:GREGORIAN
METHOD:PUBLISH
X-ORIGINAL-URL:https://klondikecruisers.ca
X-WR-CALDESC:Events for Klondike Cruisers
REFRESH-INTERVAL;VALUE=DURATION:PT1H
X-Robots-Tag:noindex
X-PUBLISHED-TTL:PT1H
BEGIN:VTIMEZONE
TZID:America/Whitehorse
BEGIN:STANDARD
TZOFFSETFROM:-0700
TZOFFSETTO:-0700
TZNAME:MST
DTSTART:20220101T000000
END:STANDARD
END:VTIMEZONE
BEGIN:VEVENT
DTSTART;TZID=America/Whitehorse:20230625T100000
DTEND;TZID=America/Whitehorse:20230625T150000
DTSTAMP:20260425T202936
CREATED:20230409T030546Z
LAST-MODIFIED:20230527T205109Z
UID:10000177-1687687200-1687705200@klondikecruisers.ca
SUMMARY:Autocross last Sunday of each summer month
DESCRIPTION:Its cone time!\nCome and test your driving skills in our Autocross event by racing through the cones. Solo event that is timed by a laser timing system. We also do a 100 foot shootout at the end of the event. \nParticipants must help setup if they want to compete. \nThe location this year is at the Liquor Corp warehouse parking lot. This on Industrial next to Erik’s audio. \nSee below for rules of entry: \n\nOnly members are allowed inside the fenced compound\nFor our Insurance you must be a member of the Klondike Cruisers\n\nmemberships will be available on site for $50 a year\n\n\nYou must sign our waiver\nYou must wear a seatbelt\nYou must wear a Snell approved helmet\nYou must obey green or red flags on the course\nYour car must pass a technical inspection\n\nWe check suspension\, steering\, tires and under the hood to ensure there are no unsecured parts like the battery\nAll loose items must be remover from the car\, including the spare tire\n\n\n\nThere will be some beverages and a toilet on site. \nLast Sunday of each month with the last one being in August. \n 
URL:https://klondikecruisers.ca/event/autocross/2023-06-25/
LOCATION:Yukon Liquor Corp\, 9031 Quartz Rd\, Whitehorse\, YT\, y1a4p9\, Canada
ORGANIZER;CN="Klondike Cruisers":MAILTO:klondikecruisers@gmail.com
END:VEVENT
BEGIN:VEVENT
DTSTART;TZID=America/Whitehorse:20230528T100000
DTEND;TZID=America/Whitehorse:20230528T150000
DTSTAMP:20260425T202936
CREATED:20230409T030546Z
LAST-MODIFIED:20230527T205109Z
UID:10000176-1685268000-1685286000@klondikecruisers.ca
SUMMARY:Autocross last Sunday of each summer month
DESCRIPTION:Its cone time!\nCome and test your driving skills in our Autocross event by racing through the cones. Solo event that is timed by a laser timing system. We also do a 100 foot shootout at the end of the event. \nParticipants must help setup if they want to compete. \nThe location this year is at the Liquor Corp warehouse parking lot. This on Industrial next to Erik’s audio. \nSee below for rules of entry: \n\nOnly members are allowed inside the fenced compound\nFor our Insurance you must be a member of the Klondike Cruisers\n\nmemberships will be available on site for $50 a year\n\n\nYou must sign our waiver\nYou must wear a seatbelt\nYou must wear a Snell approved helmet\nYou must obey green or red flags on the course\nYour car must pass a technical inspection\n\nWe check suspension\, steering\, tires and under the hood to ensure there are no unsecured parts like the battery\nAll loose items must be remover from the car\, including the spare tire\n\n\n\nThere will be some beverages and a toilet on site. \nLast Sunday of each month with the last one being in August. \n 
URL:https://klondikecruisers.ca/event/autocross/2023-05-28/
LOCATION:Yukon Liquor Corp\, 9031 Quartz Rd\, Whitehorse\, YT\, y1a4p9\, Canada
ORGANIZER;CN="Klondike Cruisers":MAILTO:klondikecruisers@gmail.com
END:VEVENT
END:VCALENDAR